BEGIN:VCALENDAR
VERSION:2.0
PRODID:-//World Smokefree May - ECPv6.15.20//NONSGML v1.0//EN
CALSCALE:GREGORIAN
METHOD:PUBLISH
X-WR-CALNAME:World Smokefree May
X-ORIGINAL-URL:https://worldsmokefreemay.nz
X-WR-CALDESC:Events for World Smokefree May
REFRESH-INTERVAL;VALUE=DURATION:PT1H
X-Robots-Tag:noindex
X-PUBLISHED-TTL:PT1H
BEGIN:VTIMEZONE
TZID:Pacific/Auckland
BEGIN:STANDARD
TZOFFSETFROM:+1300
TZOFFSETTO:+1200
TZNAME:NZST
DTSTART:20250405T140000
END:STANDARD
BEGIN:DAYLIGHT
TZOFFSETFROM:+1200
TZOFFSETTO:+1300
TZNAME:NZDT
DTSTART:20250927T140000
END:DAYLIGHT
BEGIN:STANDARD
TZOFFSETFROM:+1300
TZOFFSETTO:+1200
TZNAME:NZST
DTSTART:20260404T140000
END:STANDARD
BEGIN:DAYLIGHT
TZOFFSETFROM:+1200
TZOFFSETTO:+1300
TZNAME:NZDT
DTSTART:20260926T140000
END:DAYLIGHT
BEGIN:STANDARD
TZOFFSETFROM:+1300
TZOFFSETTO:+1200
TZNAME:NZST
DTSTART:20270403T140000
END:STANDARD
BEGIN:DAYLIGHT
TZOFFSETFROM:+1200
TZOFFSETTO:+1300
TZNAME:NZDT
DTSTART:20270925T140000
END:DAYLIGHT
END:VTIMEZONE
BEGIN:VEVENT
DTSTART;VALUE=DATE:20260511
DTEND;VALUE=DATE:20260512
DTSTAMP:20260420T060759
CREATED:20260412T210046Z
LAST-MODIFIED:20260412T210046Z
UID:2618-1778457600-1778543999@worldsmokefreemay.nz
SUMMARY:Burnham Camp education session
DESCRIPTION:Closed to community \nTeaming up with Te Whatu Ora to help lead this educational session out around Smokefree and Vapefree. 
URL:https://worldsmokefreemay.nz/event/burnham-camp-education-session/
LOCATION:Christchurch\, Christchurch
CATEGORIES:South Island
END:VEVENT
END:VCALENDAR