BEGIN:VCALENDAR
VERSION:2.0
PRODID:-//World Smokefree May - ECPv6.15.20//NONSGML v1.0//EN
CALSCALE:GREGORIAN
METHOD:PUBLISH
X-WR-CALNAME:World Smokefree May
X-ORIGINAL-URL:https://worldsmokefreemay.nz
X-WR-CALDESC:Events for World Smokefree May
REFRESH-INTERVAL;VALUE=DURATION:PT1H
X-Robots-Tag:noindex
X-PUBLISHED-TTL:PT1H
BEGIN:VTIMEZONE
TZID:Pacific/Auckland
BEGIN:STANDARD
TZOFFSETFROM:+1300
TZOFFSETTO:+1200
TZNAME:NZST
DTSTART:20250405T140000
END:STANDARD
BEGIN:DAYLIGHT
TZOFFSETFROM:+1200
TZOFFSETTO:+1300
TZNAME:NZDT
DTSTART:20250927T140000
END:DAYLIGHT
BEGIN:STANDARD
TZOFFSETFROM:+1300
TZOFFSETTO:+1200
TZNAME:NZST
DTSTART:20260404T140000
END:STANDARD
BEGIN:DAYLIGHT
TZOFFSETFROM:+1200
TZOFFSETTO:+1300
TZNAME:NZDT
DTSTART:20260926T140000
END:DAYLIGHT
BEGIN:STANDARD
TZOFFSETFROM:+1300
TZOFFSETTO:+1200
TZNAME:NZST
DTSTART:20270403T140000
END:STANDARD
BEGIN:DAYLIGHT
TZOFFSETFROM:+1200
TZOFFSETTO:+1300
TZNAME:NZDT
DTSTART:20270925T140000
END:DAYLIGHT
END:VTIMEZONE
BEGIN:VEVENT
DTSTART;VALUE=DATE:20260518
DTEND;VALUE=DATE:20260625
DTSTAMP:20260420T060758
CREATED:20260412T212814Z
LAST-MODIFIED:20260412T212814Z
UID:2623-1779062400-1782345599@worldsmokefreemay.nz
SUMMARY:YCD- Youth Cultural Development 
DESCRIPTION:YCD will be leading out events in collaboration with smokefree throughout the week of youth week! Come join in for free kai\, barber and braids\, pool parties\, an outdoor movie night and more!  \nVisit YCD Instagram for more information: Youth & Cultural Development (@ycd_chch) • Instagram photos and videos
URL:https://worldsmokefreemay.nz/event/ycd-youth-cultural-development/
LOCATION:Christchurch\, Christchurch
CATEGORIES:South Island
END:VEVENT
BEGIN:VEVENT
DTSTART;TZID=Pacific/Auckland:20260526T070000
DTEND;TZID=Pacific/Auckland:20260526T080000
DTSTAMP:20260420T060758
CREATED:20260411T054248Z
LAST-MODIFIED:20260415T022237Z
UID:2611-1779778800-1779782400@worldsmokefreemay.nz
SUMMARY:Te Puna Kaha a Māui Bootcamp
DESCRIPTION:Te Puna Kaha a Māui 💪🏽\nKotahi tātou. Stronger together. \nNau mai\, haere mai.\nJoin us at Manurewa Marae for a 6-week fitness bootcamp with Lui Anderson — ex Kiwi & NZ Warrior. \nMore than a workout\, this is about whānau\, connection\, and building strength together.\nAll fitness levels welcome. Just show up. \n📍 Tuesdays | 7:00am – 8:00am\n📅 Starting 28th April – World Smokefree May \nRegister on the day or email: luia@manurewamarae.co.nz \nTe Puna Kaha a Māui. Kotahi tātou. Stronger Together
URL:https://worldsmokefreemay.nz/event/te-kaha-a-maui-5/
LOCATION:Manurewa Marae\, Finlayson Ave\, 81 Finlayson Ave\, Auckland
CATEGORIES:Auckland
ATTACH;FMTTYPE=image/png:https://worldsmokefreemay.nz/wp-content/uploads/2026/04/TE-PUNA-SMOKEFREE.png
END:VEVENT
BEGIN:VEVENT
DTSTART;TZID=Pacific/Auckland:20260526T120000
DTEND;TZID=Pacific/Auckland:20260526T130000
DTSTAMP:20260420T060758
CREATED:20260413T004159Z
LAST-MODIFIED:20260413T004159Z
UID:2654-1779796800-1779800400@worldsmokefreemay.nz
SUMMARY:Bodyworks
DESCRIPTION:Bodyworks is a wellbeing kaupapa designed to empower wahine to build confidence in their bodies\, reconnect with their tinana\, and discover their strength both physically and mentally within a safe\, inclusive\, and culturally grounded environment.
URL:https://worldsmokefreemay.nz/event/bodyworks-6/
LOCATION:Massey Park\, Papakura\, New Zealand
CATEGORIES:Auckland
ATTACH;FMTTYPE=image/jpeg:https://worldsmokefreemay.nz/wp-content/uploads/2026/04/IMG_1689.jpg
END:VEVENT
END:VCALENDAR