BEGIN:VCALENDAR
VERSION:2.0
PRODID:-//World Smokefree May - ECPv6.15.20//NONSGML v1.0//EN
CALSCALE:GREGORIAN
METHOD:PUBLISH
X-ORIGINAL-URL:https://worldsmokefreemay.nz
X-WR-CALDESC:Events for World Smokefree May
REFRESH-INTERVAL;VALUE=DURATION:PT1H
X-Robots-Tag:noindex
X-PUBLISHED-TTL:PT1H
BEGIN:VTIMEZONE
TZID:Pacific/Auckland
BEGIN:STANDARD
TZOFFSETFROM:+1300
TZOFFSETTO:+1200
TZNAME:NZST
DTSTART:20250405T140000
END:STANDARD
BEGIN:DAYLIGHT
TZOFFSETFROM:+1200
TZOFFSETTO:+1300
TZNAME:NZDT
DTSTART:20250927T140000
END:DAYLIGHT
BEGIN:STANDARD
TZOFFSETFROM:+1300
TZOFFSETTO:+1200
TZNAME:NZST
DTSTART:20260404T140000
END:STANDARD
BEGIN:DAYLIGHT
TZOFFSETFROM:+1200
TZOFFSETTO:+1300
TZNAME:NZDT
DTSTART:20260926T140000
END:DAYLIGHT
BEGIN:STANDARD
TZOFFSETFROM:+1300
TZOFFSETTO:+1200
TZNAME:NZST
DTSTART:20270403T140000
END:STANDARD
BEGIN:DAYLIGHT
TZOFFSETFROM:+1200
TZOFFSETTO:+1300
TZNAME:NZDT
DTSTART:20270925T140000
END:DAYLIGHT
END:VTIMEZONE
BEGIN:VEVENT
DTSTART;VALUE=DATE:20260518
DTEND;VALUE=DATE:20260625
DTSTAMP:20260420T060637
CREATED:20260412T212814Z
LAST-MODIFIED:20260412T212814Z
UID:2623-1779062400-1782345599@worldsmokefreemay.nz
SUMMARY:YCD- Youth Cultural Development 
DESCRIPTION:YCD will be leading out events in collaboration with smokefree throughout the week of youth week! Come join in for free kai\, barber and braids\, pool parties\, an outdoor movie night and more!  \nVisit YCD Instagram for more information: Youth & Cultural Development (@ycd_chch) • Instagram photos and videos
URL:https://worldsmokefreemay.nz/event/ycd-youth-cultural-development/
LOCATION:Christchurch\, Christchurch
CATEGORIES:South Island
END:VEVENT
BEGIN:VEVENT
DTSTART;TZID=Pacific/Auckland:20260530T083000
DTEND;TZID=Pacific/Auckland:20260530T093000
DTSTAMP:20260420T060637
CREATED:20260413T042652Z
LAST-MODIFIED:20260413T042652Z
UID:2701-1780129800-1780133400@worldsmokefreemay.nz
SUMMARY:Patu Wāhine Toa
DESCRIPTION:Free 9 week Patu Wāhine Toa classes for women\, Rego Form – https://form.jotform.com/260896335605060
URL:https://worldsmokefreemay.nz/event/patu-wahine-toa-7/
LOCATION:Clover Park Community House\, 16A Israel Avenue\, Auckland\, Auckland
CATEGORIES:Auckland
ATTACH;FMTTYPE=image/png:https://worldsmokefreemay.nz/wp-content/uploads/2026/04/2-2-scaled.png
END:VEVENT
BEGIN:VEVENT
DTSTART;TZID=Pacific/Auckland:20260530T110000
DTEND;TZID=Pacific/Auckland:20260530T170000
DTSTAMP:20260420T060637
CREATED:20260416T210959Z
LAST-MODIFIED:20260416T210959Z
UID:2783-1780138800-1780160400@worldsmokefreemay.nz
SUMMARY:Moerewa Tigers Rugby League - Safe Sleep Papa Wananga
DESCRIPTION:This wānanga is led and facilitated by tāne\, creating a space to build knowledge and confidence around safe sleep for pēpi. While focused on new members\, it remains inclusive of existing members\, strengthening shared understanding across the club.\n\nThe wānanga brings together tāne from four codes – league\, soccer\, netball\, and softball. Supporting a collective\, kaupapa-driven approach to whānau wellbeing. Safe sleep and Smokefree messaging will be integrated throughout\, reinforcing the importance of creating safe\, healthy environments for pēpi and whānau.
URL:https://worldsmokefreemay.nz/event/moerewa-tigers-rugby-league-safe-sleep-papa-wananga/
LOCATION:Moerewa Rugby League Club\, 14 Leaity Street\, Moerewa
CATEGORIES:Tai Tokerau
END:VEVENT
END:VCALENDAR