BEGIN:VCALENDAR
VERSION:2.0
PRODID:-//World Smokefree May - ECPv6.15.20//NONSGML v1.0//EN
CALSCALE:GREGORIAN
METHOD:PUBLISH
X-ORIGINAL-URL:https://worldsmokefreemay.nz
X-WR-CALDESC:Events for World Smokefree May
REFRESH-INTERVAL;VALUE=DURATION:PT1H
X-Robots-Tag:noindex
X-PUBLISHED-TTL:PT1H
BEGIN:VTIMEZONE
TZID:Pacific/Auckland
BEGIN:STANDARD
TZOFFSETFROM:+1300
TZOFFSETTO:+1200
TZNAME:NZST
DTSTART:20240406T140000
END:STANDARD
BEGIN:DAYLIGHT
TZOFFSETFROM:+1200
TZOFFSETTO:+1300
TZNAME:NZDT
DTSTART:20240928T140000
END:DAYLIGHT
BEGIN:STANDARD
TZOFFSETFROM:+1300
TZOFFSETTO:+1200
TZNAME:NZST
DTSTART:20250405T140000
END:STANDARD
BEGIN:DAYLIGHT
TZOFFSETFROM:+1200
TZOFFSETTO:+1300
TZNAME:NZDT
DTSTART:20250927T140000
END:DAYLIGHT
BEGIN:STANDARD
TZOFFSETFROM:+1300
TZOFFSETTO:+1200
TZNAME:NZST
DTSTART:20260404T140000
END:STANDARD
BEGIN:DAYLIGHT
TZOFFSETFROM:+1200
TZOFFSETTO:+1300
TZNAME:NZDT
DTSTART:20260926T140000
END:DAYLIGHT
END:VTIMEZONE
BEGIN:VEVENT
DTSTART;TZID=Pacific/Auckland:20250514T100000
DTEND;TZID=Pacific/Auckland:20250514T150000
DTSTAMP:20260421T225756
CREATED:20250429T002709Z
LAST-MODIFIED:20250429T225257Z
UID:1962-1747216800-1747234800@worldsmokefreemay.nz
SUMMARY:Taonga Puoro Wananga
DESCRIPTION:Program Highlights: \nPart One: Sharing pūrākau of Raukatauri (Atua of Taonga Pūoro)\, followed by a guided experience with Taonga Pūoro. This session involves storytelling using sound to journey from creation into self-healing. \nPart Two: Sharing of kōrero in a porowhita (circle discussion). \nPart Three: Learning and making Taonga Pūoro (Ukutangi) for self-healing\, combined with storytelling around Atuatanga specific to Taonga Pūoro. \nAdditional Details: \nLunch is catered for registered participants. \nRegistration form is attached\, and expression of interest can be submitted via QR Code linking to Hemi@kokiri-hauora.org.nz email\, and Takiri Mai te Ata RSSS Facebook page. \nThis Wananga is enriching and immersive\, blending cultural traditions and self-care through music\, pūrākau\, and also whakapapa while creating your own Taonga for personal use. \nPlease fill out the PDF form to register or email Hemi@kokiri-hauora.org.nz \nRegister Here
URL:https://worldsmokefreemay.nz/event/taonga-puoro-wananga/
LOCATION:Whakarongotai Marae\, 2/4 Mahara Place\, Waikanae
CATEGORIES:Central Region
ATTACH;FMTTYPE=image/png:https://worldsmokefreemay.nz/wp-content/uploads/2025/04/ORO-ATUA-wananga-poster.png
END:VEVENT
BEGIN:VEVENT
DTSTART;TZID=Pacific/Auckland:20250514T183000
DTEND;TZID=Pacific/Auckland:20250514T193000
DTSTAMP:20260421T225756
CREATED:20250430T004908Z
LAST-MODIFIED:20250430T221429Z
UID:2048-1747247400-1747251000@worldsmokefreemay.nz
SUMMARY:Xtreme Hip Hop Smokefree classes
DESCRIPTION:In celebration of World Smokefree May\, we’re partnering with Hāpai Te Hauora and Love Wainuiomata to bring Xtreme Hip Hop Step classes to whānau here in the ‘Nui’ throughout the month of May!\nJoin us\, get moving\, and encourage your whānau to kickstart a smokefree lifestyle journey this May — let’s celebrate health\, movement\, and community together!
URL:https://worldsmokefreemay.nz/event/xtreme-hip-hop-smokefree-classes-2/
LOCATION:Wainuiomata Community Centre\, Queen Street\, Wainuiomata
CATEGORIES:Central Region
ATTACH;FMTTYPE=image/png:https://worldsmokefreemay.nz/wp-content/uploads/2025/04/Thats-us-Step-Class-Event-Poster.png
END:VEVENT
END:VCALENDAR