BEGIN:VCALENDAR
VERSION:2.0
PRODID:-//World Smokefree May - ECPv6.15.20//NONSGML v1.0//EN
CALSCALE:GREGORIAN
METHOD:PUBLISH
X-WR-CALNAME:World Smokefree May
X-ORIGINAL-URL:https://worldsmokefreemay.nz
X-WR-CALDESC:Events for World Smokefree May
REFRESH-INTERVAL;VALUE=DURATION:PT1H
X-Robots-Tag:noindex
X-PUBLISHED-TTL:PT1H
BEGIN:VTIMEZONE
TZID:Pacific/Auckland
BEGIN:STANDARD
TZOFFSETFROM:+1300
TZOFFSETTO:+1200
TZNAME:NZST
DTSTART:20240406T140000
END:STANDARD
BEGIN:DAYLIGHT
TZOFFSETFROM:+1200
TZOFFSETTO:+1300
TZNAME:NZDT
DTSTART:20240928T140000
END:DAYLIGHT
BEGIN:STANDARD
TZOFFSETFROM:+1300
TZOFFSETTO:+1200
TZNAME:NZST
DTSTART:20250405T140000
END:STANDARD
BEGIN:DAYLIGHT
TZOFFSETFROM:+1200
TZOFFSETTO:+1300
TZNAME:NZDT
DTSTART:20250927T140000
END:DAYLIGHT
BEGIN:STANDARD
TZOFFSETFROM:+1300
TZOFFSETTO:+1200
TZNAME:NZST
DTSTART:20260404T140000
END:STANDARD
BEGIN:DAYLIGHT
TZOFFSETFROM:+1200
TZOFFSETTO:+1300
TZNAME:NZDT
DTSTART:20260926T140000
END:DAYLIGHT
END:VTIMEZONE
BEGIN:VEVENT
DTSTART;TZID=Pacific/Auckland:20250522T110000
DTEND;TZID=Pacific/Auckland:20250522T130000
DTSTAMP:20260423T200903
CREATED:20250512T212606Z
LAST-MODIFIED:20250512T212606Z
UID:2310-1747911600-1747918800@worldsmokefreemay.nz
SUMMARY:SmokeFree May Te Taiwhenua o Heretaunga Events
DESCRIPTION:Smokefree Promotion
URL:https://worldsmokefreemay.nz/event/smokefree-may-te-taiwhenua-o-heretaunga-events/
LOCATION:Hastings Kmart\, Hastings\, New Zealand
CATEGORIES:Midland
ATTACH;FMTTYPE=application/pdf:https://worldsmokefreemay.nz/wp-content/uploads/2025/05/SMOKE-FREE-MAY-EVENTS.pdf
END:VEVENT
BEGIN:VEVENT
DTSTART;TZID=Pacific/Auckland:20250522T100000
DTEND;TZID=Pacific/Auckland:20250522T110000
DTSTAMP:20260423T200903
CREATED:20250512T232613Z
LAST-MODIFIED:20250512T232613Z
UID:2338-1747908000-1747911600@worldsmokefreemay.nz
SUMMARY:Coffee Chats
DESCRIPTION:Come have a catch up and a coffee on us! RSVP to your local Stop Smoking Practitioner and let them know you’ll be joining them for a coffee and chat about becoming smokefree. RSVP to 027 448 7501 or 027 279 5373
URL:https://worldsmokefreemay.nz/event/coffee-chats-2/
LOCATION:Wai Ariki Hotsprings and Spa Cafe\, 1047 Whakaue Street\, Rotorua\, New Zealand
CATEGORIES:Midland
ATTACH;FMTTYPE=image/png:https://worldsmokefreemay.nz/wp-content/uploads/2025/05/Thursday-22nd.png
END:VEVENT
BEGIN:VEVENT
DTSTART;TZID=Pacific/Auckland:20250521T100000
DTEND;TZID=Pacific/Auckland:20250521T110000
DTSTAMP:20260423T200903
CREATED:20250512T232213Z
LAST-MODIFIED:20250512T232213Z
UID:2334-1747821600-1747825200@worldsmokefreemay.nz
SUMMARY:Coffee Chats
DESCRIPTION:Come have a catch up and a coffee on us! RSVP to your local Stop Smoking Practitioner Roberta on 027 279 5373 and let her know you’ll be joining her for a coffee and chat about becoming smokefree.
URL:https://worldsmokefreemay.nz/event/coffee-chats/
LOCATION:Baked with Love Cafe\, 11 Gascoigne Street\, Taupo\, New Zealand
CATEGORIES:Midland
ATTACH;FMTTYPE=image/png:https://worldsmokefreemay.nz/wp-content/uploads/2025/05/Wednesday-21st.png
END:VEVENT
BEGIN:VEVENT
DTSTART;VALUE=DATE:20250521
DTEND;VALUE=DATE:20250523
DTSTAMP:20260423T200903
CREATED:20250414T004448Z
LAST-MODIFIED:20250430T021923Z
UID:1840-1747785600-1747958399@worldsmokefreemay.nz
SUMMARY:Te Kohi Kai Noho - Youth Week 2025
DESCRIPTION:Led by Mahi Kai Trust\, Te Kohi Kai Noho is a unique kaupapa taking place during Youth Week and Smokefree May. \nThis event weaves together mātauranga Māori\, traditional weaving\, and the knowledge of kai gathering. It is a space for rangatahi to reconnect with cultural practices\, learn from local weavers in Whakatāne\, and engage in kōrero about the significance of kai\, whenua\, and hauora. \nThroughout the event\, smokefree messages will be interwoven—highlighting the importance of living well for ourselves\, our whānau\, and future generations. The kaupapa will culminate in a celebration\, bringing together participants to acknowledge their learning\, connections\, and commitment to a smokefree future. \nNote: Registrations are now CLOSED
URL:https://worldsmokefreemay.nz/event/te-kohi-kai-noho-youth-week-2025/
LOCATION:60 Hoetene Street Whakatane\, 60 Hoetene Street\, Whakatane\, New Zealand
CATEGORIES:Midland
ATTACH;FMTTYPE=image/jpeg:https://worldsmokefreemay.nz/wp-content/uploads/2025/04/Te-Kohi-Kai-printed-version.jpg
END:VEVENT
BEGIN:VEVENT
DTSTART;TZID=Pacific/Auckland:20250519T160000
DTEND;TZID=Pacific/Auckland:20250519T180000
DTSTAMP:20260423T200903
CREATED:20250430T010636Z
LAST-MODIFIED:20250512T231736Z
UID:2057-1747670400-1747677600@worldsmokefreemay.nz
SUMMARY:Fordlands Monday Funday
DESCRIPTION:Kick off your week the right way with Fordlands Fundays!\nCome down for:\n🍽️ Free community dinners\n🏀 Sports and games for all ages\n🎉 Good vibes\, good kai\, and great company \nA space for community to connect and play. Everyone’s welcome!
URL:https://worldsmokefreemay.nz/event/fordlands-funday-3/
LOCATION:Huia Lyons Skate Park & Reserve\, Bellingham Crescent\, Rotorua\, New Zealand
CATEGORIES:Midland
ATTACH;FMTTYPE=image/jpeg:https://worldsmokefreemay.nz/wp-content/uploads/2025/04/IMG_2528.jpg
END:VEVENT
BEGIN:VEVENT
DTSTART;TZID=Pacific/Auckland:20250514T183000
DTEND;TZID=Pacific/Auckland:20250514T200000
DTSTAMP:20260423T200903
CREATED:20250429T231947Z
LAST-MODIFIED:20250429T231947Z
UID:2021-1747247400-1747252800@worldsmokefreemay.nz
SUMMARY:Hauora at the Courts
DESCRIPTION:This World Smokefree May\, we’re bringing hauora to the heart of our community at Tauranga Netball. Join us courtside as we engage with players\, whānau\, and supporters to promote positive health and wellbeing. \nOur goal is to encourage those who are thinking about quitting smoking to take the first step by connecting with their local stop smoking service and accessing free\, supportive help. \nCome visit our promotional stall for resources\, key smokefree messages\, and friendly kōrero. Whether you’re ready to quit\, want to support someone else\, or simply learn more\, we’re here for it all.
URL:https://worldsmokefreemay.nz/event/hauora-at-the-courts-2/
LOCATION:Tauranga Netball Center\, 583B Maunganui Rd\, Mount Maunganui\, 3116
CATEGORIES:Midland
ATTACH;FMTTYPE=image/png:https://worldsmokefreemay.nz/wp-content/uploads/2025/04/WBoP-Hauora-at-the-Courts-2.png
END:VEVENT
BEGIN:VEVENT
DTSTART;TZID=Pacific/Auckland:20250512T160000
DTEND;TZID=Pacific/Auckland:20250512T180000
DTSTAMP:20260423T200903
CREATED:20250429T230433Z
LAST-MODIFIED:20250512T231650Z
UID:2019-1747065600-1747072800@worldsmokefreemay.nz
SUMMARY:Fordlands Monday Funday
DESCRIPTION:Kick off your week the right way with Fordlands Fundays!\nCome down for:\n🍽️ Free community dinners\n🏀 Sports and games for all ages\n🎉 Good vibes\, good kai\, and great company \nA space for community to connect and play. Everyone’s welcome!
URL:https://worldsmokefreemay.nz/event/fordlands-funday-2/
LOCATION:Huia Lyons Skate Park & Reserve\, Bellingham Crescent\, Rotorua\, New Zealand
CATEGORIES:Midland
ATTACH;FMTTYPE=image/jpeg:https://worldsmokefreemay.nz/wp-content/uploads/2025/04/IMG_2528.jpg
END:VEVENT
BEGIN:VEVENT
DTSTART;TZID=Pacific/Auckland:20250510T100000
DTEND;TZID=Pacific/Auckland:20250510T150000
DTSTAMP:20260423T200903
CREATED:20250423T223817Z
LAST-MODIFIED:20250423T223817Z
UID:1858-1746871200-1746889200@worldsmokefreemay.nz
SUMMARY:Recharge Your Hauora
DESCRIPTION:Join us for a special day dedicated to rejuvenating the hauora of our community. This is a time to reset\, set new goals\, and try something new that uplifts your wellbeing. Whether it’s through movement\, connection\, or simply having fun\, this day is about coming together\, stepping out of isolation\, and embracing the journey toward better health and happiness.\n\nWith a variety of free activities for all ages\, there’s something for everyone:\n✨ Mirimiri by Te Puna o Mataatua\n✨ Line dancing at the RSA\n✨ Karaoke & live music\n✨ Delicious healthy kai\n✨ Pampering – hair and nails\n✨ Tai Chi\n✨ Stop Smoking support and resources from Hāpainga SSS\n\nNo matter where you’re at in life\, it’s never too late to look after your hauora. Come along\, connect\, and leave feeling refreshed and inspired!
URL:https://worldsmokefreemay.nz/event/recharge-your-hauora/
LOCATION:recharge hauora\, 21 Richardson Street\, Whakatane
CATEGORIES:Midland
END:VEVENT
BEGIN:VEVENT
DTSTART;TZID=Pacific/Auckland:20250505T160000
DTEND;TZID=Pacific/Auckland:20250505T180000
DTSTAMP:20260423T200903
CREATED:20250429T222306Z
LAST-MODIFIED:20250512T231607Z
UID:2000-1746460800-1746468000@worldsmokefreemay.nz
SUMMARY:Fordlands Monday Funday
DESCRIPTION:Kick off your week the right way with Fordlands Fundays!\nCome down for:\n🍽️ Free community dinners\n🏀 Sports and games for all ages\n🎉 Good vibes\, good kai\, and great company \nA space for community to connect and play. Everyone’s welcome!
URL:https://worldsmokefreemay.nz/event/fordlands-funday/
LOCATION:Huia Lyons Skate Park & Reserve\, Bellingham Crescent\, Rotorua\, New Zealand
CATEGORIES:Midland
ATTACH;FMTTYPE=image/jpeg:https://worldsmokefreemay.nz/wp-content/uploads/2025/04/IMG_2528.jpg
END:VEVENT
END:VCALENDAR