BEGIN:VCALENDAR
VERSION:2.0
PRODID:-//World Smokefree May - ECPv6.15.20//NONSGML v1.0//EN
CALSCALE:GREGORIAN
METHOD:PUBLISH
X-WR-CALNAME:World Smokefree May
X-ORIGINAL-URL:https://worldsmokefreemay.nz
X-WR-CALDESC:Events for World Smokefree May
REFRESH-INTERVAL;VALUE=DURATION:PT1H
X-Robots-Tag:noindex
X-PUBLISHED-TTL:PT1H
BEGIN:VTIMEZONE
TZID:Pacific/Auckland
BEGIN:STANDARD
TZOFFSETFROM:+1300
TZOFFSETTO:+1200
TZNAME:NZST
DTSTART:20250405T140000
END:STANDARD
BEGIN:DAYLIGHT
TZOFFSETFROM:+1200
TZOFFSETTO:+1300
TZNAME:NZDT
DTSTART:20250927T140000
END:DAYLIGHT
BEGIN:STANDARD
TZOFFSETFROM:+1300
TZOFFSETTO:+1200
TZNAME:NZST
DTSTART:20260404T140000
END:STANDARD
BEGIN:DAYLIGHT
TZOFFSETFROM:+1200
TZOFFSETTO:+1300
TZNAME:NZDT
DTSTART:20260926T140000
END:DAYLIGHT
BEGIN:STANDARD
TZOFFSETFROM:+1300
TZOFFSETTO:+1200
TZNAME:NZST
DTSTART:20270403T140000
END:STANDARD
BEGIN:DAYLIGHT
TZOFFSETFROM:+1200
TZOFFSETTO:+1300
TZNAME:NZDT
DTSTART:20270925T140000
END:DAYLIGHT
END:VTIMEZONE
BEGIN:VEVENT
DTSTART;TZID=Pacific/Auckland:20260426T113000
DTEND;TZID=Pacific/Auckland:20260426T130000
DTSTAMP:20260423T231236
CREATED:20260423T032146Z
LAST-MODIFIED:20260423T032146Z
UID:2806-1777203000-1777208400@worldsmokefreemay.nz
SUMMARY:Christchurch Hip Hop Summit Showcase
DESCRIPTION:As the city comes alive with our teams and thousands of visitors\, we’re proud to present the hip hop summit showcase. \nFeaturing mini sets from- euphoria danceStudio\, Christchurch freestyle jam crew\, as well as conscious92\,  Ivrsn\, and big Sigma. \nSupported by Dj Infared and Tommy Dreamer. \nThis is the first of many mini pop ups on the road to the Christchurch hip hop summit 2026. \nSuper round live site – Bridge of remembrance\, Sunday 26th of April\, 11.30- 1pm. \nIf you’re in the city\, come on through! Ōtautahi let’s make some noise!
URL:https://worldsmokefreemay.nz/event/christchurch-hip-hop-summit-showcase/
LOCATION:Christchurch Central City\, Cashel Street\, Christchurch Central City\, New Zealand
CATEGORIES:South Island
ATTACH;FMTTYPE=image/jpeg:https://worldsmokefreemay.nz/wp-content/uploads/2026/04/IMG_3803.jpg
END:VEVENT
END:VCALENDAR