BEGIN:VCALENDAR
VERSION:2.0
PRODID:-//World Smokefree May - ECPv6.15.20//NONSGML v1.0//EN
CALSCALE:GREGORIAN
METHOD:PUBLISH
X-ORIGINAL-URL:https://worldsmokefreemay.nz
X-WR-CALDESC:Events for World Smokefree May
REFRESH-INTERVAL;VALUE=DURATION:PT1H
X-Robots-Tag:noindex
X-PUBLISHED-TTL:PT1H
BEGIN:VTIMEZONE
TZID:Pacific/Auckland
BEGIN:STANDARD
TZOFFSETFROM:+1300
TZOFFSETTO:+1200
TZNAME:NZST
DTSTART:20240406T140000
END:STANDARD
BEGIN:DAYLIGHT
TZOFFSETFROM:+1200
TZOFFSETTO:+1300
TZNAME:NZDT
DTSTART:20240928T140000
END:DAYLIGHT
BEGIN:STANDARD
TZOFFSETFROM:+1300
TZOFFSETTO:+1200
TZNAME:NZST
DTSTART:20250405T140000
END:STANDARD
BEGIN:DAYLIGHT
TZOFFSETFROM:+1200
TZOFFSETTO:+1300
TZNAME:NZDT
DTSTART:20250927T140000
END:DAYLIGHT
BEGIN:STANDARD
TZOFFSETFROM:+1300
TZOFFSETTO:+1200
TZNAME:NZST
DTSTART:20260404T140000
END:STANDARD
BEGIN:DAYLIGHT
TZOFFSETFROM:+1200
TZOFFSETTO:+1300
TZNAME:NZDT
DTSTART:20260926T140000
END:DAYLIGHT
BEGIN:STANDARD
TZOFFSETFROM:+1300
TZOFFSETTO:+1200
TZNAME:NZST
DTSTART:20270403T140000
END:STANDARD
BEGIN:DAYLIGHT
TZOFFSETFROM:+1200
TZOFFSETTO:+1300
TZNAME:NZDT
DTSTART:20270925T140000
END:DAYLIGHT
END:VTIMEZONE
BEGIN:VEVENT
DTSTART;VALUE=DATE:20260418
DTEND;VALUE=DATE:20260420
DTSTAMP:20260420T205907
CREATED:20260416T210447Z
LAST-MODIFIED:20260416T210447Z
UID:2777-1776470400-1776643199@worldsmokefreemay.nz
SUMMARY:Nukutae Waka Whānau wānanga 
DESCRIPTION:Closed Event\n\nThis two-day wānanga is designed to equip whānau with practical knowledge and confidence around safe sleeping for pēpi\, enabling them to share this important information within their waka ama clubs.\n\nAs part of a wider hauora approach for clubs across the rohe\, this wānanga supports the wellbeing of both pēpi and whānau through kaupapa grounded in care\, connection\, and prevention. The theme\, “Every Sleep is a Safe Sleep\,” reinforces the importance of consistent safe sleep practices.\n\nSafe sleep messaging from the Safe Sleep Foundation will be facilitated by Tāne\, with support from Hāpai kaimahi. Smokefree messaging will also be woven throughout the wānanga\, highlighting the importance of maintaining smokefree environments to support the health and wellbeing of pēpi and whānau.
URL:https://worldsmokefreemay.nz/event/nukutae-waka-whanau-wananga/
LOCATION:Whangaroa\, Whangaroa\, New Zealand
CATEGORIES:Tai Tokerau
END:VEVENT
BEGIN:VEVENT
DTSTART;TZID=Pacific/Auckland:20250530T130000
DTEND;TZID=Pacific/Auckland:20250530T170000
DTSTAMP:20260420T205907
CREATED:20250428T233456Z
LAST-MODIFIED:20250430T045615Z
UID:1960-1748610000-1748624400@worldsmokefreemay.nz
SUMMARY:He Titiro Whakamuri kia Anga Whakamua
DESCRIPTION:Submit to guests and Marae from Te Puu O Te Wheke a Kohewhata Marae draft plan for Auahikore Marae 2025/26 and beyond – where to from here. Close off “That’s Us” Campaign – Poroporake
URL:https://worldsmokefreemay.nz/event/he-titiro-whakamuri-kia-anga-whakamua-3/
LOCATION:Kohewhata Marae\, 6869 Mangakāhia Road\, Kaikohe\, Northland
CATEGORIES:Tai Tokerau
END:VEVENT
BEGIN:VEVENT
DTSTART;TZID=Pacific/Auckland:20250529T173000
DTEND;TZID=Pacific/Auckland:20250529T210000
DTSTAMP:20260420T205907
CREATED:20250428T233354Z
LAST-MODIFIED:20250430T045244Z
UID:1958-1748539800-1748552400@worldsmokefreemay.nz
SUMMARY:Moerewa Leaugue Club
DESCRIPTION:Taane/Players Wananga – What is SUDI and Safe Sleeping\, and what is a Papa’s role? Polo shirt Promotion – Post Game wear to Promote Safe Sleeping\, Tamariki Tournament – That’s Us Campaign and Smokefree Streets. Polo T Shirt Launch evening – Players and Whanau. There are three dates for this activation\, which is a collaboration with Moerewa League Club\, SUDI and Auahikore
URL:https://worldsmokefreemay.nz/event/moerewa-leaugue-club/
LOCATION:Moerewa Rugby League Club\, 14 Leaity Street\, Moerewa
CATEGORIES:Tai Tokerau
END:VEVENT
BEGIN:VEVENT
DTSTART;TZID=Pacific/Auckland:20250524T080000
DTEND;TZID=Pacific/Auckland:20250524T150000
DTSTAMP:20260420T205907
CREATED:20250428T233155Z
LAST-MODIFIED:20250430T013234Z
UID:1956-1748073600-1748098800@worldsmokefreemay.nz
SUMMARY:Moerewa League Club
DESCRIPTION:Taane/Players Wananga – What is SUDI and Safe Sleeping\, and what is a Papa’s role? Polo shirt Promotion – Post Game wear to Promote Safe Sleeping\, Tamariki Tournament – That’s Us Campaign and Smokefree Streets. Polo T Shirt Launch evening – Players and Whānau. There are three dates for this activation\, which is a collaboration with Moerewa League Club\, SUDI and Auahikore
URL:https://worldsmokefreemay.nz/event/moerewa-league-club-2/
LOCATION:Moerewa Rugby League Club\, 14 Leaity Street\, Moerewa
CATEGORIES:Tai Tokerau
END:VEVENT
BEGIN:VEVENT
DTSTART;TZID=Pacific/Auckland:20250523T150000
DTEND;TZID=Pacific/Auckland:20250523T170000
DTSTAMP:20260420T205907
CREATED:20250428T233017Z
LAST-MODIFIED:20250430T020756Z
UID:1954-1748012400-1748019600@worldsmokefreemay.nz
SUMMARY:Inspiring Change through Positive Action
DESCRIPTION:Commmunity/Rangatahi/Whanau engagement through a public event at the Kerikeri Domain/Skate Park. Activities include – That’s Us/Smokefree Street campaign\, Online survey continued\, Rnagatahi Voice – Incubation Tank for Rangatahi who are interested in developing their own initiatives\, Whanau Voice – a opportunity for whanau and public to offer insights via a feedback station\, fun activities – basketball challenge\, chalk art\, kai\, music\, barber and braids.
URL:https://worldsmokefreemay.nz/event/inspiring-change-through-positive-action-2/
LOCATION:Kerikeri Domain\, 10 Cobham Road\, Kerikeri
CATEGORIES:Tai Tokerau
END:VEVENT
BEGIN:VEVENT
DTSTART;VALUE=DATE:20250519
DTEND;VALUE=DATE:20250523
DTSTAMP:20260420T205907
CREATED:20250428T232902Z
LAST-MODIFIED:20250430T020903Z
UID:1950-1747612800-1747958399@worldsmokefreemay.nz
SUMMARY:Inspiring Change through Positive Action
DESCRIPTION:An online survey/insight gathering exercise aimed at rangatahi and their whānau.
URL:https://worldsmokefreemay.nz/event/inspiring-change-through-positive-action/
LOCATION:Kerikeri Domain\, 10 Cobham Road\, Kerikeri
CATEGORIES:Tai Tokerau
END:VEVENT
BEGIN:VEVENT
DTSTART;TZID=Pacific/Auckland:20250516T180000
DTEND;TZID=Pacific/Auckland:20250516T210000
DTSTAMP:20260420T205907
CREATED:20250428T232548Z
LAST-MODIFIED:20250428T232732Z
UID:1947-1747418400-1747429200@worldsmokefreemay.nz
SUMMARY:He Titiro Whakamuri kia Anga Whakamua
DESCRIPTION:Auahikore Marae Draft Plan 2025/26 and beyond – a speed date with Marae\, Hapu\, Education and Health Sector to shape and input into a Marae\, Hapu Auahikore movement for Taitokerau and across the Motu.
URL:https://worldsmokefreemay.nz/event/he-titiro-whakamuri-kia-anga-whakamua-2/
LOCATION:Ihalam Cafe\, 87 Broadway\, Kaikohe
CATEGORIES:Tai Tokerau
END:VEVENT
BEGIN:VEVENT
DTSTART;TZID=Pacific/Auckland:20250515T173000
DTEND;TZID=Pacific/Auckland:20250515T210000
DTSTAMP:20260420T205907
CREATED:20250428T232102Z
LAST-MODIFIED:20250430T045129Z
UID:1941-1747330200-1747342800@worldsmokefreemay.nz
SUMMARY:Moerewa League Club
DESCRIPTION:Taane/Players Wananga – What is SUDI and Safe Sleeping\, and what is a Papa’s role? Polo shirt Promotion – Post Game wear to Promote Safe Sleeping\, Tamariki Tournament – That’s Us Campaign and Smokefree Streets. Polo T Shirt Launch evening – Players and Whanau. There are three dates for this activation\, which is a collaboration with Moerewa League Club\, SUDI and Auahikore
URL:https://worldsmokefreemay.nz/event/moerewa-league-club/
LOCATION:Moerewa Rugby League Club\, 14 Leaity Street\, Moerewa
CATEGORIES:Tai Tokerau
END:VEVENT
BEGIN:VEVENT
DTSTART;VALUE=DATE:20250503
DTEND;VALUE=DATE:20250504
DTSTAMP:20260420T205907
CREATED:20250428T231635Z
LAST-MODIFIED:20250430T012548Z
UID:1938-1746230400-1746316799@worldsmokefreemay.nz
SUMMARY:He Titiro Whakamuri kia Anga Whakamua
DESCRIPTION:“A look back and a reset to move forward.” Purakau: Story telling time. A recount of Kohewhata Marae and Te Uri O Hua\, Auahikore Marae journey. Hapu members will be interviewed and recorded. \nThe launch of “Thats Us” campaign that will sit alongside of this journey and encourage Hapu to quit smoking and to reconnect with the Auahikore Marae kaupapa.This Purakau/Story telling time will shape and begin the over all purpose of this Activation which is AuahiKore 2025/26 and beyond – a draft plan.
URL:https://worldsmokefreemay.nz/event/he-titiro-whakamuri-kia-anga-whakamua/
LOCATION:Kohewhata Marae\, 6869 Mangakāhia Road\, Kaikohe\, Northland
CATEGORIES:Tai Tokerau
END:VEVENT
BEGIN:VEVENT
DTSTART;TZID=Pacific/Auckland:20250412T180000
DTEND;TZID=Pacific/Auckland:20250413T090000
DTSTAMP:20260420T205907
CREATED:20250430T022531Z
LAST-MODIFIED:20250430T022919Z
UID:2081-1744480800-1744534800@worldsmokefreemay.nz
SUMMARY:Te Kapu O Te Rangi
DESCRIPTION:Powhiri \, Whānaungatanga\, Wānanga Schedule\, History of Tabacco Aoteraroa & Auahikore 2025 korero and “That’s Us” WSFM Camapaign presentation
URL:https://worldsmokefreemay.nz/event/te-kapu-o-te-rangi/
LOCATION:Oromahoe Marae\, Porotu Road\, Bay of Islands\, New Zealand
CATEGORIES:Tai Tokerau
END:VEVENT
END:VCALENDAR