BEGIN:VCALENDAR
VERSION:2.0
PRODID:-//World Smokefree May - ECPv6.15.20//NONSGML v1.0//EN
CALSCALE:GREGORIAN
METHOD:PUBLISH
X-WR-CALNAME:World Smokefree May
X-ORIGINAL-URL:https://worldsmokefreemay.nz
X-WR-CALDESC:Events for World Smokefree May
REFRESH-INTERVAL;VALUE=DURATION:PT1H
X-Robots-Tag:noindex
X-PUBLISHED-TTL:PT1H
BEGIN:VTIMEZONE
TZID:Pacific/Auckland
BEGIN:STANDARD
TZOFFSETFROM:+1300
TZOFFSETTO:+1200
TZNAME:NZST
DTSTART:20250405T140000
END:STANDARD
BEGIN:DAYLIGHT
TZOFFSETFROM:+1200
TZOFFSETTO:+1300
TZNAME:NZDT
DTSTART:20250927T140000
END:DAYLIGHT
BEGIN:STANDARD
TZOFFSETFROM:+1300
TZOFFSETTO:+1200
TZNAME:NZST
DTSTART:20260404T140000
END:STANDARD
BEGIN:DAYLIGHT
TZOFFSETFROM:+1200
TZOFFSETTO:+1300
TZNAME:NZDT
DTSTART:20260926T140000
END:DAYLIGHT
BEGIN:STANDARD
TZOFFSETFROM:+1300
TZOFFSETTO:+1200
TZNAME:NZST
DTSTART:20270403T140000
END:STANDARD
BEGIN:DAYLIGHT
TZOFFSETFROM:+1200
TZOFFSETTO:+1300
TZNAME:NZDT
DTSTART:20270925T140000
END:DAYLIGHT
END:VTIMEZONE
BEGIN:VEVENT
DTSTART;TZID=Pacific/Auckland:20260518T090000
DTEND;TZID=Pacific/Auckland:20260518T150000
DTSTAMP:20260420T203951
CREATED:20260416T210645Z
LAST-MODIFIED:20260416T210645Z
UID:2780-1779094800-1779116400@worldsmokefreemay.nz
SUMMARY:Safe Sleep and “That’s Us” Smokefree Expo
DESCRIPTION:This expo will showcase the feedback\, insights\, and outcomes from the Safe Sleep Wānanga held on 18–19 April. It provides an opportunity to celebrate the learnings of participating whānau and highlight the impact of safe sleep education across the rohe.\n\nSafe sleep and Smokefree messaging will be shared throughout the expo\, reinforcing the importance of creating healthy\, safe environments for pēpi and whānau.
URL:https://worldsmokefreemay.nz/event/safe-sleep-and-thats-us-smokefree-expo/
LOCATION:Lake Manuwai\, Lake Manuwai\, Kerikeri\, New Zealand
CATEGORIES:Tai Tokerau
END:VEVENT
BEGIN:VEVENT
DTSTART;TZID=Pacific/Auckland:20260522T160000
DTEND;TZID=Pacific/Auckland:20260522T210000
DTSTAMP:20260420T203951
CREATED:20260412T235936Z
LAST-MODIFIED:20260415T225733Z
UID:2633-1779465600-1779483600@worldsmokefreemay.nz
SUMMARY:Youth Week - Taringaa Whakarongo ki te reo nga taihi - Our voices matter\, we deserve to be heard
DESCRIPTION:A collaborative day designed and executed by Rangatahi of Te Puu O Te Wheke. Lead organisations: Healthy Families Far North\, People Potential\, Sport Northland\, Regent Training Center\, Ara Whakamua Mid North\, Te Kona\, Solomon Group\, WotMatters\, E Tu Whanau\, Hapai Te Hauora. \nFor more information\, check out their Instagram here: Taiohi Collective (@taiohicollective) • Instagram photos and videos
URL:https://worldsmokefreemay.nz/event/youth-week-taringaa-whakarongo-ki-te-reo-nga-taihi-our-voices-matter-we-deserve-to-be-heard/
CATEGORIES:Tai Tokerau
ATTACH;FMTTYPE=image/png:https://worldsmokefreemay.nz/wp-content/uploads/2026/04/image002.png
END:VEVENT
BEGIN:VEVENT
DTSTART;TZID=Pacific/Auckland:20260530T110000
DTEND;TZID=Pacific/Auckland:20260530T170000
DTSTAMP:20260420T203951
CREATED:20260416T210959Z
LAST-MODIFIED:20260416T210959Z
UID:2783-1780138800-1780160400@worldsmokefreemay.nz
SUMMARY:Moerewa Tigers Rugby League - Safe Sleep Papa Wananga
DESCRIPTION:This wānanga is led and facilitated by tāne\, creating a space to build knowledge and confidence around safe sleep for pēpi. While focused on new members\, it remains inclusive of existing members\, strengthening shared understanding across the club.\n\nThe wānanga brings together tāne from four codes – league\, soccer\, netball\, and softball. Supporting a collective\, kaupapa-driven approach to whānau wellbeing. Safe sleep and Smokefree messaging will be integrated throughout\, reinforcing the importance of creating safe\, healthy environments for pēpi and whānau.
URL:https://worldsmokefreemay.nz/event/moerewa-tigers-rugby-league-safe-sleep-papa-wananga/
LOCATION:Moerewa Rugby League Club\, 14 Leaity Street\, Moerewa
CATEGORIES:Tai Tokerau
END:VEVENT
BEGIN:VEVENT
DTSTART;VALUE=DATE:20260531
DTEND;VALUE=DATE:20260601
DTSTAMP:20260420T203951
CREATED:20260413T000317Z
LAST-MODIFIED:20260413T000317Z
UID:2635-1780185600-1780271999@worldsmokefreemay.nz
SUMMARY:Moerewa Tigers Rugby League - Tamariki Rugby League Tournament - "Thats Us" Smokefree Tournamaent.
DESCRIPTION:A Taitokerau Rugby League Tournament for all Junior Rugby League Teams. The Theme is “That’s Us” Smoke and Vape Free promotion day. Facilitated by the Safe Sleep Taane Champions of the Club. Expo\, Promotional Gazebos and Roaming Quizz Teams.
URL:https://worldsmokefreemay.nz/event/moerewa-tigers-rugby-league-tamariki-rugby-league-tournament-thats-us-smokefree-tournamaent/
LOCATION:Moerewa Rugby League Club\, 14 Leaity Street\, Moerewa
CATEGORIES:Tai Tokerau
END:VEVENT
END:VCALENDAR