BEGIN:VCALENDAR
VERSION:2.0
PRODID:-//World Smokefree May - ECPv6.15.20//NONSGML v1.0//EN
CALSCALE:GREGORIAN
METHOD:PUBLISH
X-WR-CALNAME:World Smokefree May
X-ORIGINAL-URL:https://worldsmokefreemay.nz
X-WR-CALDESC:Events for World Smokefree May
REFRESH-INTERVAL;VALUE=DURATION:PT1H
X-Robots-Tag:noindex
X-PUBLISHED-TTL:PT1H
BEGIN:VTIMEZONE
TZID:Pacific/Auckland
BEGIN:STANDARD
TZOFFSETFROM:+1300
TZOFFSETTO:+1200
TZNAME:NZST
DTSTART:20240406T140000
END:STANDARD
BEGIN:DAYLIGHT
TZOFFSETFROM:+1200
TZOFFSETTO:+1300
TZNAME:NZDT
DTSTART:20240928T140000
END:DAYLIGHT
BEGIN:STANDARD
TZOFFSETFROM:+1300
TZOFFSETTO:+1200
TZNAME:NZST
DTSTART:20250405T140000
END:STANDARD
BEGIN:DAYLIGHT
TZOFFSETFROM:+1200
TZOFFSETTO:+1300
TZNAME:NZDT
DTSTART:20250927T140000
END:DAYLIGHT
BEGIN:STANDARD
TZOFFSETFROM:+1300
TZOFFSETTO:+1200
TZNAME:NZST
DTSTART:20260404T140000
END:STANDARD
BEGIN:DAYLIGHT
TZOFFSETFROM:+1200
TZOFFSETTO:+1300
TZNAME:NZDT
DTSTART:20260926T140000
END:DAYLIGHT
END:VTIMEZONE
BEGIN:VEVENT
DTSTART;TZID=Pacific/Auckland:20250715T110000
DTEND;TZID=Pacific/Auckland:20250715T130000
DTSTAMP:20260420T202810
CREATED:20250430T041713Z
LAST-MODIFIED:20250501T022011Z
UID:2141-1752577200-1752584400@worldsmokefreemay.nz
SUMMARY:Hā Habit - Celebration Event
DESCRIPTION:Hā Ora – Quit Smoking Retreat & 6-Week Support Challenge\nA free Māori led programme to help you quit smoking and reclaim your wellbeing. We want to show you what’s possible — your value\, your worth\, and your ability to do new and hard things\, even when they feel impossible. \nBrought to you by Hā Habit and Hāpai te Hauora. \n“You’ve tried before. Now you’re ready for something deeper.” \nDownload the program here
URL:https://worldsmokefreemay.nz/event/ha-habit-celebration-event/
LOCATION:Papamoa\, Papamoa\, New Zealand
CATEGORIES:Midlands
END:VEVENT
BEGIN:VEVENT
DTSTART;TZID=Pacific/Auckland:20250627T153000
DTEND;TZID=Pacific/Auckland:20250627T163000
DTSTAMP:20260420T202810
CREATED:20250430T044432Z
LAST-MODIFIED:20250512T014606Z
UID:2165-1751038200-1751041800@worldsmokefreemay.nz
SUMMARY:Zumba - Massey
DESCRIPTION:Ready to move\, groove\, and breathe free? Join our free Community Zumba Sessions designed to boost your health\, lift your mood\, and support your journey to quit smoking. No pressure\, just positive vibes\, energetic music\, and a fun way to take control of your well-being. All fitness levels welcome!
URL:https://worldsmokefreemay.nz/event/zumba-massey-2/
LOCATION:Massey Hub\, 385 Don Buck Road\, Auckland
CATEGORIES:Auckland
END:VEVENT
BEGIN:VEVENT
DTSTART;TZID=Pacific/Auckland:20250621T100000
DTEND;TZID=Pacific/Auckland:20250621T110000
DTSTAMP:20260420T202810
CREATED:20250430T041249Z
LAST-MODIFIED:20250501T021914Z
UID:2138-1750500000-1750503600@worldsmokefreemay.nz
SUMMARY:Hā Habit - Mid-point Support Event
DESCRIPTION:Hā Ora – Quit Smoking Retreat & 6-Week Support Challenge\nA free Māori led programme to help you quit smoking and reclaim your wellbeing. We want to show you what’s possible — your value\, your worth\, and your ability to do new and hard things\, even when they feel impossible. \nBrought to you by Hā Habit and Hāpai te Hauora. \n“You’ve tried before. Now you’re ready for something deeper.” \nDownload the program here
URL:https://worldsmokefreemay.nz/event/ha-habit-mid-point-support-event/
LOCATION:Papamoa\, Papamoa\, New Zealand
CATEGORIES:Midlands
END:VEVENT
BEGIN:VEVENT
DTSTART;TZID=Pacific/Auckland:20250620T153000
DTEND;TZID=Pacific/Auckland:20250620T163000
DTSTAMP:20260420T202810
CREATED:20250430T044326Z
LAST-MODIFIED:20250512T015225Z
UID:2163-1750433400-1750437000@worldsmokefreemay.nz
SUMMARY:Zumba - Massey
DESCRIPTION:Ready to move\, groove\, and breathe free? Join our free Community Zumba Sessions designed to boost your health\, lift your mood\, and support your journey to quit smoking. No pressure\, just positive vibes\, energetic music\, and a fun way to take control of your well-being. All fitness levels welcome!
URL:https://worldsmokefreemay.nz/event/auto-draft/
LOCATION:Massey Hub\, 385 Don Buck Road\, Auckland
CATEGORIES:Auckland
END:VEVENT
BEGIN:VEVENT
DTSTART;TZID=Pacific/Auckland:20250617T183000
DTEND;TZID=Pacific/Auckland:20250617T193000
DTSTAMP:20260420T202810
CREATED:20250428T231320Z
LAST-MODIFIED:20250430T042934Z
UID:1936-1750185000-1750188600@worldsmokefreemay.nz
SUMMARY:Step Class - ZEAL Henderson
DESCRIPTION:Step up to a healthier you! Join our energizing Step Classes designed to get your heart pumping and support your smokefree goals. It’s fun\, it’s free\, and it’s the perfect way to build strength while breaking the habit. Let’s step toward a smokefree future together. \n 
URL:https://worldsmokefreemay.nz/event/zeal-henderson-step-class-5/
LOCATION:Zeal West\, 20 Alderman Drive\, Henderson\, Auckland\, 0650\, New Zealand
CATEGORIES:Auckland
END:VEVENT
BEGIN:VEVENT
DTSTART;TZID=Pacific/Auckland:20250617T080000
DTEND;TZID=Pacific/Auckland:20250617T170000
DTSTAMP:20260420T202810
CREATED:20250428T231243Z
LAST-MODIFIED:20250430T041823Z
UID:1934-1750147200-1750179600@worldsmokefreemay.nz
SUMMARY:Zumba Session for Wāhine ma - Papakura
DESCRIPTION:FUN AND FREE from the harms of tobacco!! Inviting all wāhine ma to join in and learn some new dance moves. Welcoming space to discuss all things Smokefree! Bring your questions and your dancing shoes to the weekly classes and let’s start our Smokefree journey together!
URL:https://worldsmokefreemay.nz/event/papakura-zumba-session-for-wahine-ma-7/
LOCATION:Elizabeth Campbell Hall\, Elizabeth Campbell Hall\, 294 Great South Road\, Papakura
CATEGORIES:Auckland
END:VEVENT
BEGIN:VEVENT
DTSTART;TZID=Pacific/Auckland:20250613T153000
DTEND;TZID=Pacific/Auckland:20250613T163000
DTSTAMP:20260420T202810
CREATED:20250430T044024Z
LAST-MODIFIED:20250512T014957Z
UID:2161-1749828600-1749832200@worldsmokefreemay.nz
SUMMARY:Zumba - Massey
DESCRIPTION:Ready to move\, groove\, and breathe free? Join our free Community Zumba Sessions designed to boost your health\, lift your mood\, and support your journey to quit smoking. No pressure\, just positive vibes\, energetic music\, and a fun way to take control of your well-being. All fitness levels welcome!
URL:https://worldsmokefreemay.nz/event/zumba-massey/
LOCATION:Massey Hub\, 385 Don Buck Road\, Auckland
CATEGORIES:Auckland
END:VEVENT
BEGIN:VEVENT
DTSTART;TZID=Pacific/Auckland:20250612T190000
DTEND;TZID=Pacific/Auckland:20250612T200000
DTSTAMP:20260420T202810
CREATED:20250428T231154Z
LAST-MODIFIED:20250501T020019Z
UID:1932-1749754800-1749758400@worldsmokefreemay.nz
SUMMARY:Zumba - Papakura
DESCRIPTION:Ready to move\, groove\, and breathe free? Join our free Community Zumba Sessions designed to boost your health\, lift your mood\, and support your journey to quit smoking. No pressure\, just positive vibes\, energetic music\, and a fun way to take control of your well-being. All fitness levels welcome!
URL:https://worldsmokefreemay.nz/event/papakura-zumba-3/
LOCATION:Red Hill Community Centre\, 163 Dominion Road\, Papakura\, Red Hill Community Centre\, 163 Dominion Road\, Papakura
CATEGORIES:Auckland
ATTACH;FMTTYPE=application/pdf:https://worldsmokefreemay.nz/wp-content/uploads/2025/04/KC-Zumba-Evenings-with-J-1-6.pdf
END:VEVENT
BEGIN:VEVENT
DTSTART;TZID=Pacific/Auckland:20250610T183000
DTEND;TZID=Pacific/Auckland:20250610T193000
DTSTAMP:20260420T202810
CREATED:20250428T231116Z
LAST-MODIFIED:20250430T042738Z
UID:1930-1749580200-1749583800@worldsmokefreemay.nz
SUMMARY:Step Class - ZEAL Henderson
DESCRIPTION:Step up to a healthier you! Join our energizing Step Classes designed to get your heart pumping and support your smokefree goals. It’s fun\, it’s free\, and it’s the perfect way to build strength while breaking the habit. Let’s step toward a smokefree future together.
URL:https://worldsmokefreemay.nz/event/zeal-henderson-step-class-4/
LOCATION:Zeal West\, 20 Alderman Drive\, Henderson\, Auckland\, 0650\, New Zealand
CATEGORIES:Auckland
END:VEVENT
BEGIN:VEVENT
DTSTART;TZID=Pacific/Auckland:20250610T120000
DTEND;TZID=Pacific/Auckland:20250610T130000
DTSTAMP:20260420T202810
CREATED:20250428T230957Z
LAST-MODIFIED:20250430T043551Z
UID:1926-1749556800-1749560400@worldsmokefreemay.nz
SUMMARY:Zumba Session for Wāhine ma - Papakura
DESCRIPTION:FUN AND FREE from the harms of tobacco!! Inviting all wāhine ma to join in and learn some new dance moves. Welcoming space to discuss all things Smokefree! Bring your questions and your dancing shoes to the weekly classes and let’s start our Smokefree journey together!
URL:https://worldsmokefreemay.nz/event/papakura-zumba-session-for-wahine-ma-6/
LOCATION:Elizabeth Campbell Hall\, Elizabeth Campbell Hall\, 294 Great South Road\, Papakura
CATEGORIES:Auckland
END:VEVENT
BEGIN:VEVENT
DTSTART;TZID=Pacific/Auckland:20250606T153000
DTEND;TZID=Pacific/Auckland:20250606T163000
DTSTAMP:20260420T202810
CREATED:20250430T052048Z
LAST-MODIFIED:20250512T014909Z
UID:2177-1749223800-1749227400@worldsmokefreemay.nz
SUMMARY:Zumba - Massey
DESCRIPTION:Ready to move\, groove\, and breathe free? Join our free Community Zumba Sessions designed to boost your health\, lift your mood\, and support your journey to quit smoking. No pressure\, just positive vibes\, energetic music\, and a fun way to take control of your well-being. All fitness levels welcome!
URL:https://worldsmokefreemay.nz/event/zumba-massey-3/
CATEGORIES:Auckland
END:VEVENT
BEGIN:VEVENT
DTSTART;TZID=Pacific/Auckland:20250605T190000
DTEND;TZID=Pacific/Auckland:20250605T200000
DTSTAMP:20260420T202810
CREATED:20250428T230852Z
LAST-MODIFIED:20250501T015534Z
UID:1924-1749150000-1749153600@worldsmokefreemay.nz
SUMMARY:Zumba - Papakura
DESCRIPTION:Ready to move\, groove\, and breathe free? Join our free Community Zumba Sessions designed to boost your health\, lift your mood\, and support your journey to quit smoking. No pressure\, just positive vibes\, energetic music\, and a fun way to take control of your well-being. All fitness levels welcome!
URL:https://worldsmokefreemay.nz/event/papakura-zumba-2/
LOCATION:Red Hill Community Centre\, 163 Dominion Road\, Papakura\, Red Hill Community Centre\, 163 Dominion Road\, Papakura
CATEGORIES:Auckland
ATTACH;FMTTYPE=application/pdf:https://worldsmokefreemay.nz/wp-content/uploads/2025/04/KC-Zumba-Evenings-with-J-1-5.pdf
END:VEVENT
BEGIN:VEVENT
DTSTART;TZID=Pacific/Auckland:20250603T183000
DTEND;TZID=Pacific/Auckland:20250603T193000
DTSTAMP:20260420T202810
CREATED:20250428T230628Z
LAST-MODIFIED:20250430T042847Z
UID:1922-1748975400-1748979000@worldsmokefreemay.nz
SUMMARY:Step Class - ZEAL Henderson
DESCRIPTION:Step up to a healthier you! Join our energizing Step Classes designed to get your heart pumping and support your smokefree goals. It’s fun\, it’s free\, and it’s the perfect way to build strength while breaking the habit. Let’s step toward a smokefree future together.
URL:https://worldsmokefreemay.nz/event/zeal-henderson-step-class-3/
CATEGORIES:Auckland
END:VEVENT
BEGIN:VEVENT
DTSTART;TZID=Pacific/Auckland:20250603T120000
DTEND;TZID=Pacific/Auckland:20250603T130000
DTSTAMP:20260420T202810
CREATED:20250428T230539Z
LAST-MODIFIED:20250430T043501Z
UID:1920-1748952000-1748955600@worldsmokefreemay.nz
SUMMARY:Zumba Session for Wāhine ma - Papakura
DESCRIPTION:FUN AND FREE from the harms of tobacco!! Inviting all wāhine ma to join in and learn some new dance moves. Welcoming space to discuss all things Smokefree! Bring your questions and your dancing shoes to the weekly classes and let’s start our Smokefree journey together!
URL:https://worldsmokefreemay.nz/event/papakura-zumba-session-for-wahine-ma-5/
LOCATION:Elizabeth Campbell Hall\, Elizabeth Campbell Hall\, 294 Great South Road\, Papakura
CATEGORIES:Auckland
END:VEVENT
BEGIN:VEVENT
DTSTART;TZID=Pacific/Auckland:20250531T100000
DTEND;TZID=Pacific/Auckland:20250531T140000
DTSTAMP:20260420T202810
CREATED:20250521T221854Z
LAST-MODIFIED:20250521T221854Z
UID:2361-1748685600-1748700000@worldsmokefreemay.nz
SUMMARY:World Smokefree & Pinnacle Hauora Day
DESCRIPTION:Nau mai\, haere mai – come along and celebrate health and wellbeing with us! Bring the whole whānau – theres something for everyone! Let’s work together for a smokefree future.
URL:https://worldsmokefreemay.nz/event/world-smokefree-pinnacle-hauora-day/
LOCATION:Settlement Centre\, Boundary Road\, Hamilton\, New Zealand
CATEGORIES:Midlands
ATTACH;FMTTYPE=image/png:https://worldsmokefreemay.nz/wp-content/uploads/2025/05/WSFD-Hauora-Event.png
END:VEVENT
BEGIN:VEVENT
DTSTART;TZID=Pacific/Auckland:20250531T100000
DTEND;TZID=Pacific/Auckland:20250531T140000
DTSTAMP:20260420T202810
CREATED:20250501T023254Z
LAST-MODIFIED:20250501T023254Z
UID:2208-1748685600-1748700000@worldsmokefreemay.nz
SUMMARY:World Smokefree May Celebration 2025 - The Fono
DESCRIPTION:Private event: The Fono Smokefree Service\, Hapai Te Hauora and the Pacific Churches working together to Celebrate World Smokefree Day 2025.
URL:https://worldsmokefreemay.nz/event/world-smokefree-may-celebration-2025-the-fono/
LOCATION:Manukau\, Manukau\, New Zealand
CATEGORIES:Auckland
END:VEVENT
BEGIN:VEVENT
DTSTART;TZID=Pacific/Auckland:20250531T100000
DTEND;TZID=Pacific/Auckland:20250531T120000
DTSTAMP:20260420T202810
CREATED:20250520T033541Z
LAST-MODIFIED:20250520T033541Z
UID:2357-1748685600-1748692800@worldsmokefreemay.nz
SUMMARY:Stronger Together' Smokefree Community Event
DESCRIPTION:Come dance with us\, move to the music\,\ncreate Smokefree art\, weave a tukutuku and many more\nactivities\, food\, giveaways and prizes to celebrate health\nand to encourage a collaborative Smokefree Aotearoa. Hosted by your local Stop Smoking Service Manaaki Ora
URL:https://worldsmokefreemay.nz/event/stronger-together-smokefree-community-event/
LOCATION:Rotorua Primary\, 1249 Arawa Street\, Rotorua
CATEGORIES:Midlands
ATTACH;FMTTYPE=application/pdf:https://worldsmokefreemay.nz/wp-content/uploads/2025/05/Manaaki-Ora-Stop-Smoking-Service-Community-Activation-2025.pdf
END:VEVENT
BEGIN:VEVENT
DTSTART;TZID=Pacific/Auckland:20250531T090000
DTEND;TZID=Pacific/Auckland:20250531T170000
DTSTAMP:20260420T202810
CREATED:20250423T222928Z
LAST-MODIFIED:20250423T222928Z
UID:1850-1748682000-1748710800@worldsmokefreemay.nz
SUMMARY:Hā Habit Retreat
DESCRIPTION:Hā Ora – Quit Smoking Retreat & 6-Week Support Challenge\nA free Māori led programme to help you quit smoking and reclaim your wellbeing. We want to show you what’s possible — your value\, your worth\, and your ability to do new and hard things\, even when they feel impossible. \nBrought to you by Hā Habit and Hāpai te Hauora. \n“You’ve tried before. Now you’re ready for something deeper.” \nDownload the programme here
URL:https://worldsmokefreemay.nz/event/ha-habit-retreat/
LOCATION:Ridge Country Retreat\, 300 Rocky Cutting Road\, Tauranga
CATEGORIES:Midlands
END:VEVENT
BEGIN:VEVENT
DTSTART;TZID=Pacific/Auckland:20250531T083000
DTEND;TZID=Pacific/Auckland:20250531T130000
DTSTAMP:20260420T202810
CREATED:20250513T222559Z
LAST-MODIFIED:20250513T222559Z
UID:2346-1748680200-1748696400@worldsmokefreemay.nz
SUMMARY:Community Run Event
DESCRIPTION:Celebrate the final day of World Smokefree May with us at this free community event all about movement\, hauora\, and whanaungatanga.\nWhether you’re a runner\, walker\, gym lover or just keen to show up and support the kaupapa — there’s something for everyone:\n– 10km and 5km run/walk options– 1.25km loop for a lighter stroll– Gym workout option with Arena West– Hydration + snack stations– Free coffee cart– Waiora recovery sessions– Free event photography\nAll ages and fitness levels welcome.\nSign-up details coming soon — or just show up on the day and jump in.
URL:https://worldsmokefreemay.nz/event/community-run-event/
LOCATION:Arena West Gym & Olympic Park\, 44A Portage Rd\, New Lynn\, Auckland
CATEGORIES:Auckland
END:VEVENT
BEGIN:VEVENT
DTSTART;TZID=Pacific/Auckland:20250530T153000
DTEND;TZID=Pacific/Auckland:20250530T163000
DTSTAMP:20260420T202810
CREATED:20250428T230435Z
LAST-MODIFIED:20250512T014817Z
UID:1918-1748619000-1748622600@worldsmokefreemay.nz
SUMMARY:Zumba - Massey
DESCRIPTION:Ready to move\, groove\, and breathe free? Join our free Community Zumba Sessions designed to boost your health\, lift your mood\, and support your journey to quit smoking. No pressure\, just positive vibes\, energetic music\, and a fun way to take control of your well-being. All fitness levels welcome!
URL:https://worldsmokefreemay.nz/event/massey-zumba-4/
LOCATION:Massey Hub\, 385 Don Buck Road\, Auckland
CATEGORIES:Auckland
END:VEVENT
BEGIN:VEVENT
DTSTART;TZID=Pacific/Auckland:20250530T130000
DTEND;TZID=Pacific/Auckland:20250530T170000
DTSTAMP:20260420T202810
CREATED:20250428T233456Z
LAST-MODIFIED:20250430T045615Z
UID:1960-1748610000-1748624400@worldsmokefreemay.nz
SUMMARY:He Titiro Whakamuri kia Anga Whakamua
DESCRIPTION:Submit to guests and Marae from Te Puu O Te Wheke a Kohewhata Marae draft plan for Auahikore Marae 2025/26 and beyond – where to from here. Close off “That’s Us” Campaign – Poroporake
URL:https://worldsmokefreemay.nz/event/he-titiro-whakamuri-kia-anga-whakamua-3/
LOCATION:Kohewhata Marae\, 6869 Mangakāhia Road\, Kaikohe\, Northland
CATEGORIES:Tai Tokerau
END:VEVENT
BEGIN:VEVENT
DTSTART;TZID=Pacific/Auckland:20250530T120000
DTEND;TZID=Pacific/Auckland:20250530T140000
DTSTAMP:20260420T202810
CREATED:20250512T013749Z
LAST-MODIFIED:20250512T013749Z
UID:2306-1748606400-1748613600@worldsmokefreemay.nz
SUMMARY:Walk Away From Smoking
DESCRIPTION:Walk away from smoking this Smoke Free May. Join us for a free community event at the velodrome\, where you can walk one lap\, two\, or as many as you want — all in support of a healthier\, smoke-free life.
URL:https://worldsmokefreemay.nz/event/walk-away-from-smoking/
LOCATION:SIT Zero Fees Velodrome\, 22 Surrey Park Road\, Invercargill\, New Zealand
CATEGORIES:South Island
ATTACH;FMTTYPE=application/pdf:https://worldsmokefreemay.nz/wp-content/uploads/2025/05/Walk-Away-From-Smoking-1.pdf
END:VEVENT
BEGIN:VEVENT
DTSTART;TZID=Pacific/Auckland:20250530T103000
DTEND;TZID=Pacific/Auckland:20250530T170000
DTSTAMP:20260420T202810
CREATED:20250512T213638Z
LAST-MODIFIED:20250512T213638Z
UID:2323-1748601000-1748624400@worldsmokefreemay.nz
SUMMARY:SmokeFree May Te Taiwhenua o Heretaunga Events
DESCRIPTION:Smoke-Free Day with Sausage Sizzle
URL:https://worldsmokefreemay.nz/event/smokefree-may-te-taiwhenua-o-heretaunga-events-4/
LOCATION:Whanake Te Kura\, Shop 16 Flaxmere Village\, Hastings
CATEGORIES:Midlands
ATTACH;FMTTYPE=application/pdf:https://worldsmokefreemay.nz/wp-content/uploads/2025/05/SMOKE-FREE-MAY-EVENTS-3.pdf
END:VEVENT
BEGIN:VEVENT
DTSTART;TZID=Pacific/Auckland:20250530T103000
DTEND;TZID=Pacific/Auckland:20250530T133000
DTSTAMP:20260420T202810
CREATED:20250430T214046Z
LAST-MODIFIED:20250430T214426Z
UID:2183-1748601000-1748611800@worldsmokefreemay.nz
SUMMARY:Smokefree May in Ōpōtiki 
DESCRIPTION:🎤 Karaoke DayJoin us for a day of fun and music!🎁 Prizes to be won🍔 Free Burger & Drink just for signing up🚭 Plus: Expert smoking cessation advice and on-site sign-ups
URL:https://worldsmokefreemay.nz/event/smokefree-may-in-opotiki/
LOCATION:Y2 Building\, 115 Church Street\, Opotiki\, New Zealand
CATEGORIES:Midlands
END:VEVENT
BEGIN:VEVENT
DTSTART;TZID=Pacific/Auckland:20250529T190000
DTEND;TZID=Pacific/Auckland:20250529T200000
DTSTAMP:20260420T202810
CREATED:20250428T230320Z
LAST-MODIFIED:20250501T015425Z
UID:1916-1748545200-1748548800@worldsmokefreemay.nz
SUMMARY:Zumba - Papakura
DESCRIPTION:Ready to move\, groove\, and breathe free? Join our free Community Zumba Sessions designed to boost your health\, lift your mood\, and support your journey to quit smoking. No pressure\, just positive vibes\, energetic music\, and a fun way to take control of your well-being. All fitness levels welcome!
URL:https://worldsmokefreemay.nz/event/papakura-zumba/
LOCATION:Red Hill Community Centre\, 163 Dominion Road\, Papakura\, Red Hill Community Centre\, 163 Dominion Road\, Papakura
CATEGORIES:Auckland
ATTACH;FMTTYPE=application/pdf:https://worldsmokefreemay.nz/wp-content/uploads/2025/04/KC-Zumba-Evenings-with-J-1-4.pdf
END:VEVENT
BEGIN:VEVENT
DTSTART;TZID=Pacific/Auckland:20250529T173000
DTEND;TZID=Pacific/Auckland:20250529T210000
DTSTAMP:20260420T202810
CREATED:20250428T233354Z
LAST-MODIFIED:20250430T045244Z
UID:1958-1748539800-1748552400@worldsmokefreemay.nz
SUMMARY:Moerewa Leaugue Club
DESCRIPTION:Taane/Players Wananga – What is SUDI and Safe Sleeping\, and what is a Papa’s role? Polo shirt Promotion – Post Game wear to Promote Safe Sleeping\, Tamariki Tournament – That’s Us Campaign and Smokefree Streets. Polo T Shirt Launch evening – Players and Whanau. There are three dates for this activation\, which is a collaboration with Moerewa League Club\, SUDI and Auahikore
URL:https://worldsmokefreemay.nz/event/moerewa-leaugue-club/
LOCATION:Moerewa Rugby League Club\, 14 Leaity Street\, Moerewa
CATEGORIES:Tai Tokerau
END:VEVENT
BEGIN:VEVENT
DTSTART;TZID=Pacific/Auckland:20250529T173000
DTEND;TZID=Pacific/Auckland:20250529T183000
DTSTAMP:20260420T202810
CREATED:20250429T235414Z
LAST-MODIFIED:20250501T220850Z
UID:2032-1748539800-1748543400@worldsmokefreemay.nz
SUMMARY:Pasifika Stop Smoking Challenge
DESCRIPTION:Weekly drive thru for participants registered to Pasifika Stop Smoking Challenge.\nParticipants connect with coaches\, are smokelyser tested\, receive NRT.
URL:https://worldsmokefreemay.nz/event/pasifika-stop-smoking-challenge-3/
LOCATION:Gisborne Railway Station\, 268 Grey Street\, Gisborne
CATEGORIES:Tairāwhiti
ATTACH;FMTTYPE=image/png:https://worldsmokefreemay.nz/wp-content/uploads/2025/04/Screenshot-2025-05-02-100050.png
END:VEVENT
BEGIN:VEVENT
DTSTART;TZID=Pacific/Auckland:20250529T110000
DTEND;TZID=Pacific/Auckland:20250529T123000
DTSTAMP:20260420T202810
CREATED:20250512T003920Z
LAST-MODIFIED:20250512T003920Z
UID:2291-1748516400-1748521800@worldsmokefreemay.nz
SUMMARY:Let's Clear the Air
DESCRIPTION:Join us for our fortnightly “Clear the Air’ pop up where you can chat with one of our team and discuss any smoking or vaping questions and concerns you have.
URL:https://worldsmokefreemay.nz/event/lets-clear-the-air/
LOCATION:Richmond Library\, 280 Queen Street\, Richmond\, 7050\, New Zealand
CATEGORIES:South Island
END:VEVENT
BEGIN:VEVENT
DTSTART;TZID=Pacific/Auckland:20250529T080000
DTEND;TZID=Pacific/Auckland:20250529T170000
DTSTAMP:20260420T202810
CREATED:20250429T011034Z
LAST-MODIFIED:20250508T014109Z
UID:1992-1748505600-1748538000@worldsmokefreemay.nz
SUMMARY:Healthy Heart Checks
DESCRIPTION:Eastgate shopping mall
URL:https://worldsmokefreemay.nz/event/healthy-heart-checks/
LOCATION:Eastgate shopping mall\, 20 Buckleys Road\, Christchurch
CATEGORIES:South Island
END:VEVENT
BEGIN:VEVENT
DTSTART;TZID=Pacific/Auckland:20250528T180000
DTEND;TZID=Pacific/Auckland:20250528T190000
DTSTAMP:20260420T202810
CREATED:20250430T005707Z
LAST-MODIFIED:20250430T005759Z
UID:2053-1748455200-1748458800@worldsmokefreemay.nz
SUMMARY:Xtreme Hip Hop Smokefree classes
DESCRIPTION:In celebration of World Smokefree May\, we’re partnering with Hāpai Te Hauora and Love Wainuiomata to bring Xtreme Hip Hop Step classes to whānau here in the ‘Nui’ throughout the month of May!\nJoin us\, get moving\, and encourage your whānau to kickstart a smokefree lifestyle journey this May — let’s celebrate health\, movement\, and community together!
URL:https://worldsmokefreemay.nz/event/xtreme-hip-hop-smokefree-classes-4/
LOCATION:Wainuiomata High School\, 60 Parkway Rd\, Wainuiomata
CATEGORIES:Central Region
END:VEVENT
END:VCALENDAR