BEGIN:VCALENDAR
VERSION:2.0
PRODID:-//World Smokefree May - ECPv6.15.20//NONSGML v1.0//EN
CALSCALE:GREGORIAN
METHOD:PUBLISH
X-ORIGINAL-URL:https://worldsmokefreemay.nz
X-WR-CALDESC:Events for World Smokefree May
REFRESH-INTERVAL;VALUE=DURATION:PT1H
X-Robots-Tag:noindex
X-PUBLISHED-TTL:PT1H
BEGIN:VTIMEZONE
TZID:Pacific/Auckland
BEGIN:STANDARD
TZOFFSETFROM:+1300
TZOFFSETTO:+1200
TZNAME:NZST
DTSTART:20250405T140000
END:STANDARD
BEGIN:DAYLIGHT
TZOFFSETFROM:+1200
TZOFFSETTO:+1300
TZNAME:NZDT
DTSTART:20250927T140000
END:DAYLIGHT
BEGIN:STANDARD
TZOFFSETFROM:+1300
TZOFFSETTO:+1200
TZNAME:NZST
DTSTART:20260404T140000
END:STANDARD
BEGIN:DAYLIGHT
TZOFFSETFROM:+1200
TZOFFSETTO:+1300
TZNAME:NZDT
DTSTART:20260926T140000
END:DAYLIGHT
BEGIN:STANDARD
TZOFFSETFROM:+1300
TZOFFSETTO:+1200
TZNAME:NZST
DTSTART:20270403T140000
END:STANDARD
BEGIN:DAYLIGHT
TZOFFSETFROM:+1200
TZOFFSETTO:+1300
TZNAME:NZDT
DTSTART:20270925T140000
END:DAYLIGHT
END:VTIMEZONE
BEGIN:VEVENT
DTSTART;TZID=Pacific/Auckland:20260421T120000
DTEND;TZID=Pacific/Auckland:20260421T130000
DTSTAMP:20260420T044735
CREATED:20260413T001821Z
LAST-MODIFIED:20260413T001833Z
UID:2640-1776772800-1776776400@worldsmokefreemay.nz
SUMMARY:Bodyworks
DESCRIPTION:Bodyworks is a wellbeing kaupapa designed to empower wahine to build confidence in their bodies\, reconnect with their tinana\, and discover their strength both physically and mentally within a safe\, inclusive\, and culturally grounded environment.
URL:https://worldsmokefreemay.nz/event/bodyworks/
LOCATION:Massey Park\, Papakura\, New Zealand
CATEGORIES:Auckland
ATTACH;FMTTYPE=image/jpeg:https://worldsmokefreemay.nz/wp-content/uploads/2026/04/IMG_1689.jpg
END:VEVENT
BEGIN:VEVENT
DTSTART;TZID=Pacific/Auckland:20260423T193000
DTEND;TZID=Pacific/Auckland:20260423T203000
DTSTAMP:20260420T044735
CREATED:20260410T030816Z
LAST-MODIFIED:20260415T023417Z
UID:2580-1776972600-1776976200@worldsmokefreemay.nz
SUMMARY:Thursday Feels Hip Hop Dance
DESCRIPTION:That’s Us: Move\, Connect\, Start Again \nA 10-week space this World Smokefree May to show up as you are. No pressure. No judgement. Just movement\, kōrero\, and support. Whether you’re starting your smokefree journey or just need a positive reset — you’re welcome here. Bring a mate\, bring your whānau\, or come solo. We move together\, grow together\, and keep showing up. Thursdays | 7:30–8:30pm \nDance Class Registration
URL:https://worldsmokefreemay.nz/event/thursday-feels-hip-hop-dance-2/
LOCATION:21a Coronation Road\, Mangere Bridge
CATEGORIES:Auckland
ATTACH;FMTTYPE=image/jpeg:https://worldsmokefreemay.nz/wp-content/uploads/2026/04/IMG_0541-1.jpg
END:VEVENT
BEGIN:VEVENT
DTSTART;TZID=Pacific/Auckland:20260424T173000
DTEND;TZID=Pacific/Auckland:20260424T183000
DTSTAMP:20260420T044735
CREATED:20260414T223929Z
LAST-MODIFIED:20260414T223929Z
UID:2745-1777051800-1777055400@worldsmokefreemay.nz
SUMMARY:Te Yard Fitness
DESCRIPTION:Ready to move\, reset\, and breathe better? \nJoin our FREE Friday 5:30pm Community Sessions at Te Yard — designed to lift your hauora\, clear your head\, and support you and your whānau on the journey to go smokefree. \nNo pressure. No judgement.\nJust movement\, connection\, and good energy. \nWhether you’re starting fresh or supporting someone close to you — this is for you. \nAll fitness levels welcome.
URL:https://worldsmokefreemay.nz/event/te-yard-fitness/
LOCATION:303c Rosebank Road\, Avondale\, 303c Rosebank Road\, Auckland\, New Zealand
CATEGORIES:Auckland
ATTACH;FMTTYPE=image/jpeg:https://worldsmokefreemay.nz/wp-content/uploads/2026/04/IMG_1700.jpg
END:VEVENT
BEGIN:VEVENT
DTSTART;TZID=Pacific/Auckland:20260424T183000
DTEND;TZID=Pacific/Auckland:20260424T193000
DTSTAMP:20260420T044735
CREATED:20260413T021813Z
LAST-MODIFIED:20260413T021813Z
UID:2671-1777055400-1777059000@worldsmokefreemay.nz
SUMMARY:Mau Rakau
DESCRIPTION:Free 9 week Mau Rakau classes for men\, Rego Form – https://form.jotform.com/260896335605060
URL:https://worldsmokefreemay.nz/event/mau-rakau-2/
LOCATION:Clover Park Community House\, 16A Israel Avenue\, Auckland\, Auckland
CATEGORIES:Auckland
ATTACH;FMTTYPE=image/png:https://worldsmokefreemay.nz/wp-content/uploads/2026/04/1-2-scaled.png
END:VEVENT
BEGIN:VEVENT
DTSTART;TZID=Pacific/Auckland:20260425T083000
DTEND;TZID=Pacific/Auckland:20260425T093000
DTSTAMP:20260420T044735
CREATED:20260413T023515Z
LAST-MODIFIED:20260413T023521Z
UID:2675-1777105800-1777109400@worldsmokefreemay.nz
SUMMARY:Patu Wāhine Toa
DESCRIPTION:Free 9 week Patu Wāhine Toa classes for women\, Rego Form – https://form.jotform.com/260896335605060
URL:https://worldsmokefreemay.nz/event/patu-wahine-toa-2/
LOCATION:Clover Park Community House\, 16A Israel Avenue\, Auckland\, Auckland
CATEGORIES:Auckland
END:VEVENT
BEGIN:VEVENT
DTSTART;TZID=Pacific/Auckland:20260426T100000
DTEND;TZID=Pacific/Auckland:20260426T110000
DTSTAMP:20260420T044735
CREATED:20260413T002153Z
LAST-MODIFIED:20260413T002153Z
UID:2646-1777197600-1777201200@worldsmokefreemay.nz
SUMMARY:Hauora Club
DESCRIPTION:Hauora Club is a monthly wāhine gathering held at Takapuna Beach\, open to all who are ready to pour back into themselves. Each session includes a 35-minute full body workout\, followed by kai\, kawhe\, and a guided goal-setting kōrero.This is a space to move your tinana\, connect with like-minded wāhine\, and embrace te reo Māori in a supportive\, uplifting environment — because healing\, growth\, and strength are even more powerful when we rise together. This is a space to move your tinana\, connect with like-minded wāhine\, and embrace te reo Māori in a supportive\, uplifting environment — because healing\, growth\, and strength are even more powerful when we rise together.Follow us on Instagram ‘@hauoraclub or email Hauoraclub@gmail.com for more information. All women are welcome.
URL:https://worldsmokefreemay.nz/event/hauora-club-2/
LOCATION:Takapuna Beach\, Takapuna Beach\, Auckland\, New Zealand
CATEGORIES:Auckland
END:VEVENT
BEGIN:VEVENT
DTSTART;TZID=Pacific/Auckland:20260426T100000
DTEND;TZID=Pacific/Auckland:20260426T150000
DTSTAMP:20260420T044735
CREATED:20260410T033927Z
LAST-MODIFIED:20260410T034005Z
UID:2598-1777197600-1777215600@worldsmokefreemay.nz
SUMMARY:DDF DANCE OPEN DAY - WSFM Promotional Launch
DESCRIPTION:That’s Us Open Day | Hip Hop\, Whānau & Good Vibes Nau mai\, haere mai!\nCome through for a full day of hip hop dance\, whānau connection\, and positive energy. \nNo pressure. Just movement\, kōrero\, and a chance to check it all out. \n🔥 Free Kids Workshop 10:00–11:30am\n🎤 Kids Performance 11:30am\n💃 Class with Shyla Harris 12:30–1:30pm\n🕺 Class with Dantae 1:45–2:45pm\n🌭 Sausage sizzle \n✨ Plus — come hear about our FREE Smokefree Thursday classes (7:30–8:30pm)\nA space to move\, connect\, and start again this World Smokefree May. \nBring your whānau\, bring a mate\, or just come as you are. \nThat’s us — we show up. We keep going.
URL:https://worldsmokefreemay.nz/event/ddf-dance-open-day-wsfm-promotional-launch/
LOCATION:21a Coronation Road\, Mangere Bridge
CATEGORIES:Auckland
ATTACH;FMTTYPE=image/png:https://worldsmokefreemay.nz/wp-content/uploads/2026/04/2.png
END:VEVENT
BEGIN:VEVENT
DTSTART;TZID=Pacific/Auckland:20260428T070000
DTEND;TZID=Pacific/Auckland:20260428T080000
DTSTAMP:20260420T044735
CREATED:20260411T053623Z
LAST-MODIFIED:20260415T021925Z
UID:2601-1777359600-1777363200@worldsmokefreemay.nz
SUMMARY:Te Puna Kaha a Māui Bootcamp
DESCRIPTION:Te Puna Kaha a Māui 💪🏽\nKotahi tātou. Stronger together. \nNau mai\, haere mai.\nJoin us at Manurewa Marae for a 6-week fitness bootcamp with Lui Anderson — ex Kiwi & NZ Warrior. \nMore than a workout\, this is about whānau\, connection\, and building strength together.\nAll fitness levels welcome. Just show up. \n📍 Tuesdays | 7:00am – 8:00am\n📅 Starting 28th April – World Smokefree May \nRegister on the day or email: luia@manurewamarae.co.nz \nTe Puna Kaha a Māui. Kotahi tātou. Stronger Together
URL:https://worldsmokefreemay.nz/event/te-kaha-a-maui/
LOCATION:Manurewa Marae\, Finlayson Ave\, 81 Finlayson Ave\, Auckland
CATEGORIES:Auckland
ATTACH;FMTTYPE=image/png:https://worldsmokefreemay.nz/wp-content/uploads/2026/04/TE-PUNA-SMOKEFREE.png
END:VEVENT
BEGIN:VEVENT
DTSTART;TZID=Pacific/Auckland:20260428T120000
DTEND;TZID=Pacific/Auckland:20260428T130000
DTSTAMP:20260420T044735
CREATED:20260413T002035Z
LAST-MODIFIED:20260413T002035Z
UID:2644-1777377600-1777381200@worldsmokefreemay.nz
SUMMARY:Bodyworks
DESCRIPTION:Bodyworks is a wellbeing kaupapa designed to empower wahine to build confidence in their bodies\, reconnect with their tinana\, and discover their strength both physically and mentally within a safe\, inclusive\, and culturally grounded environment.
URL:https://worldsmokefreemay.nz/event/bodyworks-2/
LOCATION:Massey Park\, Papakura\, New Zealand
CATEGORIES:Auckland
ATTACH;FMTTYPE=image/jpeg:https://worldsmokefreemay.nz/wp-content/uploads/2026/04/IMG_1689.jpg
END:VEVENT
BEGIN:VEVENT
DTSTART;TZID=Pacific/Auckland:20260430T180000
DTEND;TZID=Pacific/Auckland:20260430T200000
DTSTAMP:20260420T044735
CREATED:20260413T043936Z
LAST-MODIFIED:20260413T043936Z
UID:2707-1777572000-1777579200@worldsmokefreemay.nz
SUMMARY:Wahine Tāwharau
DESCRIPTION:Come as you are\, no experience required. You are loved\, you count & are deeply respected- There is no judgement – We heal together. Elegance with Maōri weaponary as healing tool – Wahine mā only.
URL:https://worldsmokefreemay.nz/event/wahine-tawharau/
LOCATION:Kawerau Town Hall\, Islington Street\, Kawerau\, New Zealand
CATEGORIES:Midlands
END:VEVENT
BEGIN:VEVENT
DTSTART;TZID=Pacific/Auckland:20260430T193000
DTEND;TZID=Pacific/Auckland:20260430T203000
DTSTAMP:20260420T044735
CREATED:20260410T031033Z
LAST-MODIFIED:20260415T023503Z
UID:2582-1777577400-1777581000@worldsmokefreemay.nz
SUMMARY:Thursday Feels Hip Hop Dance
DESCRIPTION:That’s Us: Move\, Connect\, Start Again \nA 10-week space this World Smokefree May to show up as you are. No pressure. No judgement. Just movement\, kōrero\, and support. Whether you’re starting your smokefree journey or just need a positive reset — you’re welcome here. Bring a mate\, bring your whānau\, or come solo. We move together\, grow together\, and keep showing up. Thursdays | 7:30–8:30pm \nDance Class Registration
URL:https://worldsmokefreemay.nz/event/thursday-feels-hip-hop-dance-3/
LOCATION:21a Coronation Road\, Mangere Bridge
CATEGORIES:Auckland
ATTACH;FMTTYPE=image/jpeg:https://worldsmokefreemay.nz/wp-content/uploads/2026/04/IMG_0541-1.jpg
END:VEVENT
BEGIN:VEVENT
DTSTART;TZID=Pacific/Auckland:20260501T173000
DTEND;TZID=Pacific/Auckland:20260501T183000
DTSTAMP:20260420T044735
CREATED:20260414T224100Z
LAST-MODIFIED:20260414T224100Z
UID:2749-1777656600-1777660200@worldsmokefreemay.nz
SUMMARY:Te Yard Fitness
DESCRIPTION:Ready to move\, reset\, and breathe better? \nJoin our FREE Friday 5:30pm Community Sessions at Te Yard — designed to lift your hauora\, clear your head\, and support you and your whānau on the journey to go smokefree. \nNo pressure. No judgement.\nJust movement\, connection\, and good energy. \nWhether you’re starting fresh or supporting someone close to you — this is for you. \nAll fitness levels welcome.
URL:https://worldsmokefreemay.nz/event/te-yard-fitness-2/
LOCATION:303c Rosebank Road\, Avondale\, 303c Rosebank Road\, Auckland\, New Zealand
CATEGORIES:Auckland
ATTACH;FMTTYPE=image/jpeg:https://worldsmokefreemay.nz/wp-content/uploads/2026/04/IMG_1700.jpg
END:VEVENT
BEGIN:VEVENT
DTSTART;TZID=Pacific/Auckland:20260501T183000
DTEND;TZID=Pacific/Auckland:20260501T193000
DTSTAMP:20260420T044735
CREATED:20260413T023700Z
LAST-MODIFIED:20260413T023700Z
UID:2677-1777660200-1777663800@worldsmokefreemay.nz
SUMMARY:Mau Rakau
DESCRIPTION:Free 9 week Mau Rakau classes for men\, Rego Form – https://form.jotform.com/260896335605060 \n 
URL:https://worldsmokefreemay.nz/event/mau-rakau-3/
LOCATION:Clover Park Community House\, 16A Israel Avenue\, Auckland\, Auckland
CATEGORIES:Auckland
ATTACH;FMTTYPE=image/png:https://worldsmokefreemay.nz/wp-content/uploads/2026/04/1-2-scaled.png
END:VEVENT
BEGIN:VEVENT
DTSTART;TZID=Pacific/Auckland:20260501T230000
DTEND;TZID=Pacific/Auckland:20260501T230000
DTSTAMP:20260420T044735
CREATED:20260412T205852Z
LAST-MODIFIED:20260412T205852Z
UID:2615-1777676400-1777676400@worldsmokefreemay.nz
SUMMARY:World Smokefree day launch
DESCRIPTION:As part of the celebration\, the incredible Flare Festival team has welcomed artists Phat1 and Drows to create a Smokefree mural that tells a powerful community story. We will be celebrating with a mural through an artist lense on auahi kore. Free health and wellbeing services\, free kai and good vibes.
URL:https://worldsmokefreemay.nz/event/world-smokefree-day-launch/
LOCATION:Christchurch\, 307 Colombo Street\, 307 Colombo Street\, Christchurch
CATEGORIES:South Island
END:VEVENT
BEGIN:VEVENT
DTSTART;TZID=Pacific/Auckland:20260502T083000
DTEND;TZID=Pacific/Auckland:20260502T093000
DTSTAMP:20260420T044735
CREATED:20260413T023906Z
LAST-MODIFIED:20260413T023906Z
UID:2679-1777710600-1777714200@worldsmokefreemay.nz
SUMMARY:Patu Wāhine Toa
DESCRIPTION:Free 9 week Patu Wāhine Toa classes for women\, Rego Form – https://form.jotform.com/260896335605060
URL:https://worldsmokefreemay.nz/event/patu-wahine-toa-3/
LOCATION:Clover Park Community House\, 16A Israel Avenue\, Auckland\, Auckland
CATEGORIES:Auckland
ATTACH;FMTTYPE=image/png:https://worldsmokefreemay.nz/wp-content/uploads/2026/04/2-2-scaled.png
END:VEVENT
BEGIN:VEVENT
DTSTART;TZID=Pacific/Auckland:20260505T070000
DTEND;TZID=Pacific/Auckland:20260505T080000
DTSTAMP:20260420T044735
CREATED:20260411T053825Z
LAST-MODIFIED:20260415T022017Z
UID:2605-1777964400-1777968000@worldsmokefreemay.nz
SUMMARY:Te Puna Kaha a Māui Bootcamp
DESCRIPTION:Te Puna Kaha a Māui 💪🏽\nKotahi tātou. Stronger together. \nNau mai\, haere mai.\nJoin us at Manurewa Marae for a 6-week fitness bootcamp with Lui Anderson — ex Kiwi & NZ Warrior. \nMore than a workout\, this is about whānau\, connection\, and building strength together.\nAll fitness levels welcome. Just show up. \n📍 Tuesdays | 7:00am – 8:00am\n📅 Starting 28th April – World Smokefree May \nRegister on the day or email: luia@manurewamarae.co.nz \nTe Puna Kaha a Māui. Kotahi tātou. Stronger Together
URL:https://worldsmokefreemay.nz/event/te-kaha-a-maui-2/
LOCATION:Manurewa Marae\, Finlayson Ave\, 81 Finlayson Ave\, Auckland
CATEGORIES:Auckland
ATTACH;FMTTYPE=image/png:https://worldsmokefreemay.nz/wp-content/uploads/2026/04/TE-PUNA-SMOKEFREE.png
END:VEVENT
BEGIN:VEVENT
DTSTART;TZID=Pacific/Auckland:20260505T120000
DTEND;TZID=Pacific/Auckland:20260505T130000
DTSTAMP:20260420T044735
CREATED:20260413T002836Z
LAST-MODIFIED:20260413T002836Z
UID:2650-1777982400-1777986000@worldsmokefreemay.nz
SUMMARY:Bodyworks
DESCRIPTION:Bodyworks is a wellbeing kaupapa designed to empower wahine to build confidence in their bodies\, reconnect with their tinana\, and discover their strength both physically and mentally within a safe\, inclusive\, and culturally grounded environment.
URL:https://worldsmokefreemay.nz/event/bodyworks-4/
LOCATION:Massey Park\, Papakura\, New Zealand
CATEGORIES:Auckland
ATTACH;FMTTYPE=image/jpeg:https://worldsmokefreemay.nz/wp-content/uploads/2026/04/IMG_1689.jpg
END:VEVENT
BEGIN:VEVENT
DTSTART;TZID=Pacific/Auckland:20260507T180000
DTEND;TZID=Pacific/Auckland:20260507T193000
DTSTAMP:20260420T044735
CREATED:20260413T044101Z
LAST-MODIFIED:20260413T044101Z
UID:2710-1778176800-1778182200@worldsmokefreemay.nz
SUMMARY:Wahine Tāwharau
DESCRIPTION:Come as you are\, no experience required. You are loved\, you count & are deeply respected- There is no judgement – We heal together. Elegance with Maōri weaponary as healing tool – Wahine mā only.
URL:https://worldsmokefreemay.nz/event/wahine-tawharau-2/
LOCATION:Kawerau Town Hall\, Islington Street\, Kawerau\, New Zealand
CATEGORIES:Midlands
END:VEVENT
BEGIN:VEVENT
DTSTART;TZID=Pacific/Auckland:20260507T193000
DTEND;TZID=Pacific/Auckland:20260507T203000
DTSTAMP:20260420T044735
CREATED:20260410T031228Z
LAST-MODIFIED:20260415T023605Z
UID:2584-1778182200-1778185800@worldsmokefreemay.nz
SUMMARY:Thursday Feels Hip Hop Dance
DESCRIPTION:That’s Us: Move\, Connect\, Start Again \nA 10-week space this World Smokefree May to show up as you are. No pressure. No judgement. Just movement\, kōrero\, and support. Whether you’re starting your smokefree journey or just need a positive reset — you’re welcome here. Bring a mate\, bring your whānau\, or come solo. We move together\, grow together\, and keep showing up. Thursdays | 7:30–8:30pm \nDance Class Registration
URL:https://worldsmokefreemay.nz/event/thursday-feels-hip-hop-dance-4/
LOCATION:21a Coronation Road\, Mangere Bridge
CATEGORIES:Auckland
ATTACH;FMTTYPE=image/jpeg:https://worldsmokefreemay.nz/wp-content/uploads/2026/04/IMG_0541-1.jpg
END:VEVENT
BEGIN:VEVENT
DTSTART;TZID=Pacific/Auckland:20260508T173000
DTEND;TZID=Pacific/Auckland:20260508T183000
DTSTAMP:20260420T044735
CREATED:20260414T224207Z
LAST-MODIFIED:20260414T224217Z
UID:2751-1778261400-1778265000@worldsmokefreemay.nz
SUMMARY:Te Yard Fitness
DESCRIPTION:Ready to move\, reset\, and breathe better? \nJoin our FREE Friday 5:30pm Community Sessions at Te Yard — designed to lift your hauora\, clear your head\, and support you and your whānau on the journey to go smokefree. \nNo pressure. No judgement.\nJust movement\, connection\, and good energy. \nWhether you’re starting fresh or supporting someone close to you — this is for you. \nAll fitness levels welcome.
URL:https://worldsmokefreemay.nz/event/te-yard-fitness-3/
LOCATION:303c Rosebank Road\, Avondale\, 303c Rosebank Road\, Auckland\, New Zealand
CATEGORIES:Auckland
ATTACH;FMTTYPE=image/jpeg:https://worldsmokefreemay.nz/wp-content/uploads/2026/04/IMG_1700.jpg
END:VEVENT
BEGIN:VEVENT
DTSTART;TZID=Pacific/Auckland:20260508T183000
DTEND;TZID=Pacific/Auckland:20260508T193000
DTSTAMP:20260420T044735
CREATED:20260413T025415Z
LAST-MODIFIED:20260413T025415Z
UID:2682-1778265000-1778268600@worldsmokefreemay.nz
SUMMARY:Mau Rakau
DESCRIPTION:Free 9 week Mau Rakau classes for men\, Rego Form – https://form.jotform.com/260896335605060
URL:https://worldsmokefreemay.nz/event/mau-rakau-4/
LOCATION:Clover Park Community House\, 16A Israel Avenue\, Auckland\, Auckland
CATEGORIES:Auckland
ATTACH;FMTTYPE=image/png:https://worldsmokefreemay.nz/wp-content/uploads/2026/04/1-2-scaled.png
END:VEVENT
BEGIN:VEVENT
DTSTART;VALUE=DATE:20260509
DTEND;VALUE=DATE:20260510
DTSTAMP:20260420T044735
CREATED:20260413T044340Z
LAST-MODIFIED:20260413T044340Z
UID:2712-1778284800-1778371199@worldsmokefreemay.nz
SUMMARY:Kids Winter Warm Up
DESCRIPTION:Closed Event \nA whanau fun day held with entertainment activities and free kai. Each child has been invited via partnerships and agencies to attend and receive a stoney creek children’s winter pack.
URL:https://worldsmokefreemay.nz/event/kids-winter-warm-up/
LOCATION:Mt Maunganui\, Mt Maunganui\, New Zealand
CATEGORIES:Midlands
END:VEVENT
BEGIN:VEVENT
DTSTART;TZID=Pacific/Auckland:20260509T083000
DTEND;TZID=Pacific/Auckland:20260509T093000
DTSTAMP:20260420T044735
CREATED:20260413T025552Z
LAST-MODIFIED:20260413T025552Z
UID:2684-1778315400-1778319000@worldsmokefreemay.nz
SUMMARY:Patu Wāhine Toa
DESCRIPTION:Free 9 week Patu Wāhine Toa classes for women\, Rego Form – https://form.jotform.com/260896335605060
URL:https://worldsmokefreemay.nz/event/patu-wahine-toa-4/
LOCATION:Clover Park Community House\, 16A Israel Avenue\, Auckland\, Auckland
CATEGORIES:Auckland
ATTACH;FMTTYPE=image/png:https://worldsmokefreemay.nz/wp-content/uploads/2026/04/2-2-scaled.png
END:VEVENT
BEGIN:VEVENT
DTSTART;TZID=Pacific/Auckland:20260510T100000
DTEND;TZID=Pacific/Auckland:20260510T110000
DTSTAMP:20260420T044735
CREATED:20260413T025756Z
LAST-MODIFIED:20260413T025756Z
UID:2686-1778407200-1778410800@worldsmokefreemay.nz
SUMMARY:Hauora Club
DESCRIPTION:Hauora Club is a monthly wāhine gathering held at Takapuna Beach\, open to all who are ready to pour back into themselves. Each session includes a 35-minute full body workout\, followed by kai\, kawhe\, and a guided goal-setting kōrero.This is a space to move your tinana\, connect with like-minded wāhine\, and embrace te reo Māori in a supportive\, uplifting environment — because healing\, growth\, and strength are even more powerful when we rise together. This is a space to move your tinana\, connect with like-minded wāhine\, and embrace te reo Māori in a supportive\, uplifting environment — because healing\, growth\, and strength are even more powerful when we rise together.Follow us on Instagram ‘@hauoraclub or email Hauoraclub@gmail.com for more information. All women are welcome.
URL:https://worldsmokefreemay.nz/event/hauora-club-3/
LOCATION:Takapuna Beach\, Takapuna Beach\, Auckland\, New Zealand
CATEGORIES:Auckland
END:VEVENT
BEGIN:VEVENT
DTSTART;VALUE=DATE:20260511
DTEND;VALUE=DATE:20260512
DTSTAMP:20260420T044735
CREATED:20260412T210046Z
LAST-MODIFIED:20260412T210046Z
UID:2618-1778457600-1778543999@worldsmokefreemay.nz
SUMMARY:Burnham Camp education session
DESCRIPTION:Closed to community \nTeaming up with Te Whatu Ora to help lead this educational session out around Smokefree and Vapefree. 
URL:https://worldsmokefreemay.nz/event/burnham-camp-education-session/
LOCATION:Christchurch\, Christchurch
CATEGORIES:South Island
END:VEVENT
BEGIN:VEVENT
DTSTART;TZID=Pacific/Auckland:20260512T070000
DTEND;TZID=Pacific/Auckland:20260512T080000
DTSTAMP:20260420T044735
CREATED:20260411T053938Z
LAST-MODIFIED:20260415T022111Z
UID:2607-1778569200-1778572800@worldsmokefreemay.nz
SUMMARY:Te Puna Kaha a Māui Bootcamp
DESCRIPTION:Te Puna Kaha a Māui 💪🏽\nKotahi tātou. Stronger together. \nNau mai\, haere mai.\nJoin us at Manurewa Marae for a 6-week fitness bootcamp with Lui Anderson — ex Kiwi & NZ Warrior. \nMore than a workout\, this is about whānau\, connection\, and building strength together.\nAll fitness levels welcome. Just show up. \n📍 Tuesdays | 7:00am – 8:00am\n📅 Starting 28th April – World Smokefree May \nRegister on the day or email: luia@manurewamarae.co.nz \nTe Puna Kaha a Māui. Kotahi tātou. Stronger Together
URL:https://worldsmokefreemay.nz/event/te-kaha-a-maui-3/
LOCATION:Manurewa Marae\, Finlayson Ave\, 81 Finlayson Ave\, Auckland
CATEGORIES:Auckland
ATTACH;FMTTYPE=image/png:https://worldsmokefreemay.nz/wp-content/uploads/2026/04/TE-PUNA-SMOKEFREE.png
END:VEVENT
BEGIN:VEVENT
DTSTART;TZID=Pacific/Auckland:20260512T120000
DTEND;TZID=Pacific/Auckland:20260512T130000
DTSTAMP:20260420T044735
CREATED:20260413T002418Z
LAST-MODIFIED:20260413T002640Z
UID:2648-1778587200-1778590800@worldsmokefreemay.nz
SUMMARY:Bodyworks
DESCRIPTION:Bodyworks is a wellbeing kaupapa designed to empower wahine to build confidence in their bodies\, reconnect with their tinana\, and discover their strength both physically and mentally within a safe\, inclusive\, and culturally grounded environment.
URL:https://worldsmokefreemay.nz/event/bodyworks-3/
LOCATION:Massey Park\, Papakura\, New Zealand
CATEGORIES:Auckland
ATTACH;FMTTYPE=image/jpeg:https://worldsmokefreemay.nz/wp-content/uploads/2026/04/IMG_1689.jpg
END:VEVENT
BEGIN:VEVENT
DTSTART;TZID=Pacific/Auckland:20260514T180000
DTEND;TZID=Pacific/Auckland:20260514T193000
DTSTAMP:20260420T044735
CREATED:20260413T044519Z
LAST-MODIFIED:20260413T044519Z
UID:2715-1778781600-1778787000@worldsmokefreemay.nz
SUMMARY:Wahine Tāwharau
DESCRIPTION:Come as you are\, no experience required. You are loved\, you count & are deeply respected- There is no judgement – We heal together. Elegance with Maōri weaponary as healing tool – Wahine mā only.
URL:https://worldsmokefreemay.nz/event/wahine-tawharau-3/
LOCATION:Kawerau Town Hall\, Islington Street\, Kawerau\, New Zealand
CATEGORIES:Midlands
END:VEVENT
BEGIN:VEVENT
DTSTART;TZID=Pacific/Auckland:20260514T193000
DTEND;TZID=Pacific/Auckland:20260514T203000
DTSTAMP:20260420T044735
CREATED:20260410T031616Z
LAST-MODIFIED:20260415T023641Z
UID:2588-1778787000-1778790600@worldsmokefreemay.nz
SUMMARY:Thursday Feels Hip Hop Dance
DESCRIPTION:That’s Us: Move\, Connect\, Start Again \nA 10-week space this World Smokefree May to show up as you are. No pressure. No judgement. Just movement\, kōrero\, and support. Whether you’re starting your smokefree journey or just need a positive reset — you’re welcome here. Bring a mate\, bring your whānau\, or come solo. We move together\, grow together\, and keep showing up. Thursdays | 7:30–8:30pm \nDance Class Registration
URL:https://worldsmokefreemay.nz/event/thursday-feels-hip-hop-dance-6/
LOCATION:21a Coronation Road\, Mangere Bridge
CATEGORIES:Auckland
ATTACH;FMTTYPE=image/jpeg:https://worldsmokefreemay.nz/wp-content/uploads/2026/04/IMG_0541-1.jpg
END:VEVENT
BEGIN:VEVENT
DTSTART;VALUE=DATE:20260515
DTEND;VALUE=DATE:20260518
DTSTAMP:20260420T044735
CREATED:20260413T044920Z
LAST-MODIFIED:20260413T044920Z
UID:2717-1778803200-1779062399@worldsmokefreemay.nz
SUMMARY:Tawharautia Te Reo Karanga
DESCRIPTION:Join us to explore the connection of karanga to wahine Māori Hākune – healing & breathing modalities. decoding the depth of pūrakau Māori to access kupu and creative wāhine poetry for karanga purposes. Limited places available. Email tekurareootetiniotoi@gmail.com
URL:https://worldsmokefreemay.nz/event/tawharautia-te-reo-karanga/
LOCATION:Kokohinau Marae\, 345F Te Teko Road\, Te Teko\, New Zealand
CATEGORIES:Midlands
END:VEVENT
END:VCALENDAR