BEGIN:VCALENDAR
VERSION:2.0
PRODID:-//World Smokefree May - ECPv6.15.20//NONSGML v1.0//EN
CALSCALE:GREGORIAN
METHOD:PUBLISH
X-ORIGINAL-URL:https://worldsmokefreemay.nz
X-WR-CALDESC:Events for World Smokefree May
REFRESH-INTERVAL;VALUE=DURATION:PT1H
X-Robots-Tag:noindex
X-PUBLISHED-TTL:PT1H
BEGIN:VTIMEZONE
TZID:Pacific/Auckland
BEGIN:STANDARD
TZOFFSETFROM:+1300
TZOFFSETTO:+1200
TZNAME:NZST
DTSTART:20240406T140000
END:STANDARD
BEGIN:DAYLIGHT
TZOFFSETFROM:+1200
TZOFFSETTO:+1300
TZNAME:NZDT
DTSTART:20240928T140000
END:DAYLIGHT
BEGIN:STANDARD
TZOFFSETFROM:+1300
TZOFFSETTO:+1200
TZNAME:NZST
DTSTART:20250405T140000
END:STANDARD
BEGIN:DAYLIGHT
TZOFFSETFROM:+1200
TZOFFSETTO:+1300
TZNAME:NZDT
DTSTART:20250927T140000
END:DAYLIGHT
BEGIN:STANDARD
TZOFFSETFROM:+1300
TZOFFSETTO:+1200
TZNAME:NZST
DTSTART:20260404T140000
END:STANDARD
BEGIN:DAYLIGHT
TZOFFSETFROM:+1200
TZOFFSETTO:+1300
TZNAME:NZDT
DTSTART:20260926T140000
END:DAYLIGHT
END:VTIMEZONE
BEGIN:VEVENT
DTSTART;TZID=Pacific/Auckland:20250528T090000
DTEND;TZID=Pacific/Auckland:20250528T170000
DTSTAMP:20260420T102856
CREATED:20250512T213300Z
LAST-MODIFIED:20250512T213300Z
UID:2319-1748422800-1748451600@worldsmokefreemay.nz
SUMMARY:SmokeFree May Te Taiwhenua o Heretaunga Events
DESCRIPTION:Speed Networking
URL:https://worldsmokefreemay.nz/event/smokefree-may-te-taiwhenua-o-heretaunga-events-3/
LOCATION:Nevertheless\, 4/105 Pakowhai Road\, Hastings\, 4120\, New Zealand
CATEGORIES:Midlands
ATTACH;FMTTYPE=application/pdf:https://worldsmokefreemay.nz/wp-content/uploads/2025/05/SMOKE-FREE-MAY-EVENTS-2.pdf
END:VEVENT
BEGIN:VEVENT
DTSTART;TZID=Pacific/Auckland:20250527T190000
DTEND;TZID=Pacific/Auckland:20250527T200000
DTSTAMP:20260420T102856
CREATED:20250428T230212Z
LAST-MODIFIED:20250430T035157Z
UID:1914-1748372400-1748376000@worldsmokefreemay.nz
SUMMARY:Step Class - ZEAL Henderson
DESCRIPTION:Step up to a healthier you! Join our energizing Step Classes designed to get your heart pumping and support your smokefree goals. It’s fun\, it’s free\, and it’s the perfect way to build strength while breaking the habit. Let’s step toward a smokefree future together.
URL:https://worldsmokefreemay.nz/event/zeal-henderson-step-class-2/
LOCATION:Zeal West\, 20 Alderman Drive\, Henderson\, Auckland\, 0650\, New Zealand
CATEGORIES:Auckland
END:VEVENT
BEGIN:VEVENT
DTSTART;TZID=Pacific/Auckland:20250527T173000
DTEND;TZID=Pacific/Auckland:20250527T183000
DTSTAMP:20260420T102856
CREATED:20250512T005806Z
LAST-MODIFIED:20250512T005806Z
UID:2304-1748367000-1748370600@worldsmokefreemay.nz
SUMMARY:Smokefree Huringa Pai Whanau Fitness Sessions
DESCRIPTION:We’re thrilled to share that Huringa Pai Charitable Trust is teaming up with Hāpai Te Hauora to amplify our support for whānau on their smoke free journeys. Join us for our Smokefree Huringa Pai Whānau Fitness Sessions! Let’s get moving together and embrace a Smokefree healthier lifestyle! Bring your whānau and let’s move towards a healthier future together!
URL:https://worldsmokefreemay.nz/event/smokefree-huringa-pai-whanau-fitness-sessions-3/
LOCATION:Ilminster Intermediate School Gym\, 70 De Lautour Road\, Gisborne\, New Zealand
CATEGORIES:Tairāwhiti
ATTACH;FMTTYPE=image/png:https://worldsmokefreemay.nz/wp-content/uploads/2025/05/Your-paragraph-text-2.png
END:VEVENT
BEGIN:VEVENT
DTSTART;TZID=Pacific/Auckland:20250527T120000
DTEND;TZID=Pacific/Auckland:20250527T130000
DTSTAMP:20260420T102856
CREATED:20250428T230109Z
LAST-MODIFIED:20250430T033652Z
UID:1912-1748347200-1748350800@worldsmokefreemay.nz
SUMMARY:Zumba Session for Wāhine ma - Papakura
DESCRIPTION:FUN AND FREE from the harms of tobacco!! Inviting all wāhine ma to join in and learn some new dance moves. Welcoming space to discuss all things Smokefree! Bring your questions and your dancing shoes to the weekly classes and let’s start our Smokefree journey together!
URL:https://worldsmokefreemay.nz/event/papakura-zumba-session-for-wahine-ma-4/
LOCATION:Elizabeth Campbell Hall\, Elizabeth Campbell Hall\, 294 Great South Road\, Papakura
CATEGORIES:Auckland
END:VEVENT
BEGIN:VEVENT
DTSTART;TZID=Pacific/Auckland:20250527T090000
DTEND;TZID=Pacific/Auckland:20250527T120000
DTSTAMP:20260420T102856
CREATED:20250430T020627Z
LAST-MODIFIED:20250430T020627Z
UID:2073-1748336400-1748347200@worldsmokefreemay.nz
SUMMARY:Poipoia te wairua: EMDR therapy for smokers
DESCRIPTION:The project aims to offer Māori in the region an alternative way to address the underlying reasons behind their smoking behavior through Eye Movement Desensitisation and Reprocessing (EMDR) therapy. This evidence-based psychological intervention helps people break free from addiction by dealing with the root causes rather than just the behavior. The project will provide up to six free EMDR therapy sessions to Māori participants\, with incentives for attendance and successful quitting.\nThe core message is that addressing the emotional drivers behind smoking can make quitting easier. The project is designed to support those who have tried other methods but are still struggling with smoking addiction.
URL:https://worldsmokefreemay.nz/event/poipoia-te-wairua-emdr-therapy-for-smokers-4/
LOCATION:Te Kaika\, 15a Playfair Street\, Dunedin
CATEGORIES:South Island
END:VEVENT
BEGIN:VEVENT
DTSTART;TZID=Pacific/Auckland:20250526T170000
DTEND;TZID=Pacific/Auckland:20250526T193000
DTSTAMP:20260420T102856
CREATED:20250429T010811Z
LAST-MODIFIED:20250508T030216Z
UID:1987-1748278800-1748287800@worldsmokefreemay.nz
SUMMARY:Pacific Culture Workshops
DESCRIPTION:The Pasifika Cultural Arts and Crafts Workshop Series is a community-driven initiative designed to celebrate and preserve Pasifika cultural traditions. The workshops offer hands-on experiences in traditional art forms such as tapa cloth making\, weaving\, carving\, tattooing\, dance\, music\, and cultural storytelling. Objectives include:\n\nProviding a culturally enriching space for participants to engage in traditional Pasifika arts.\nFostering intergenerational knowledge-sharing by involving elders\, artists\, and youth.\n\nThe workshops aim to promote well-being and encourage positive lifestyle choices\, including a commitment to being smokefree. This will be achieved through:\nStorytelling and Creative Expression: Highlighting traditional values of health\, well-being\, and respect for the body.\nGuest Speakers and Visual Storytelling: Reinforcing the benefits of a smokefree lifestyle in an inclusive and supportive environment.
URL:https://worldsmokefreemay.nz/event/pacific-culture-workshops-2/
LOCATION:Te Aratai College\, 85 Aldwins Road\, Christchurch
CATEGORIES:South Island
ATTACH;FMTTYPE=image/jpeg:https://worldsmokefreemay.nz/wp-content/uploads/2025/04/Numana-Flyer.jpg
END:VEVENT
BEGIN:VEVENT
DTSTART;TZID=Pacific/Auckland:20250526T160000
DTEND;TZID=Pacific/Auckland:20250526T180000
DTSTAMP:20260420T102856
CREATED:20250430T010916Z
LAST-MODIFIED:20250512T231819Z
UID:2059-1748275200-1748282400@worldsmokefreemay.nz
SUMMARY:Fordlands Monday Funday
DESCRIPTION:Kick off your week the right way with Fordlands Fundays!\nCome down for:\n🍽️ Free community dinners\n🏀 Sports and games for all ages\n🎉 Good vibes\, good kai\, and great company \nA space for community to connect and play. Everyone’s welcome!
URL:https://worldsmokefreemay.nz/event/fordlands-funday-4/
LOCATION:Huia Lyons Skate Park & Reserve\, Bellingham Crescent\, Rotorua\, New Zealand
CATEGORIES:Midlands
ATTACH;FMTTYPE=image/jpeg:https://worldsmokefreemay.nz/wp-content/uploads/2025/04/IMG_2528.jpg
END:VEVENT
BEGIN:VEVENT
DTSTART;TZID=Pacific/Auckland:20250526T100000
DTEND;TZID=Pacific/Auckland:20250526T130000
DTSTAMP:20260420T102856
CREATED:20250506T020750Z
LAST-MODIFIED:20250506T020808Z
UID:2277-1748253600-1748264400@worldsmokefreemay.nz
SUMMARY:Smokefree Drop in Support
DESCRIPTION:Ditch the Smokefree this May! Come down for a kōrero with Quit Coach Chloe about support with Smoking or Vaping. Every Monday in May\, you can find Chloe at the Health Hub ready to support you to become smokefree!
URL:https://worldsmokefreemay.nz/event/smokefree-drop-in-support-4/
LOCATION:Health Hub\, 22 Queen Street\, Blenheim
CATEGORIES:South Island
ATTACH;FMTTYPE=image/jpeg:https://worldsmokefreemay.nz/wp-content/uploads/2025/05/Smokefree-drop-in-support-poster-Smokefree-May-.jpg
END:VEVENT
BEGIN:VEVENT
DTSTART;TZID=Pacific/Auckland:20250525T160000
DTEND;TZID=Pacific/Auckland:20250525T170000
DTSTAMP:20260420T102856
CREATED:20250520T033309Z
LAST-MODIFIED:20250520T033309Z
UID:2353-1748188800-1748192400@worldsmokefreemay.nz
SUMMARY:Kai a Te Rangatira
DESCRIPTION:
URL:https://worldsmokefreemay.nz/event/kai-a-te-rangatira/
LOCATION:Gisborne Court House\, Reads Quay\, Gisborne
CATEGORIES:Tairāwhiti
ATTACH;FMTTYPE=image/png:https://worldsmokefreemay.nz/wp-content/uploads/2025/05/Gisborne-Homeless-activation-1.png
END:VEVENT
BEGIN:VEVENT
DTSTART;VALUE=DATE:20250525
DTEND;VALUE=DATE:20250526
DTSTAMP:20260420T102856
CREATED:20250512T212939Z
LAST-MODIFIED:20250512T212939Z
UID:2314-1748131200-1748217599@worldsmokefreemay.nz
SUMMARY:SmokeFree May Te Taiwhenua o Heretaunga Events
DESCRIPTION:Smoke-Free Promotion – Marae Wero with IronMāori
URL:https://worldsmokefreemay.nz/event/smokefree-may-te-taiwhenua-o-heretaunga-events-2/
LOCATION:Hawke’s Bay Regional Sports Park\, 42 Percival Road\, Hastings
CATEGORIES:Midlands
ATTACH;FMTTYPE=application/pdf:https://worldsmokefreemay.nz/wp-content/uploads/2025/05/SMOKE-FREE-MAY-EVENTS-1.pdf
END:VEVENT
BEGIN:VEVENT
DTSTART;TZID=Pacific/Auckland:20250524T080000
DTEND;TZID=Pacific/Auckland:20250524T150000
DTSTAMP:20260420T102856
CREATED:20250428T233155Z
LAST-MODIFIED:20250430T013234Z
UID:1956-1748073600-1748098800@worldsmokefreemay.nz
SUMMARY:Moerewa League Club
DESCRIPTION:Taane/Players Wananga – What is SUDI and Safe Sleeping\, and what is a Papa’s role? Polo shirt Promotion – Post Game wear to Promote Safe Sleeping\, Tamariki Tournament – That’s Us Campaign and Smokefree Streets. Polo T Shirt Launch evening – Players and Whānau. There are three dates for this activation\, which is a collaboration with Moerewa League Club\, SUDI and Auahikore
URL:https://worldsmokefreemay.nz/event/moerewa-league-club-2/
LOCATION:Moerewa Rugby League Club\, 14 Leaity Street\, Moerewa
CATEGORIES:Tai Tokerau
END:VEVENT
BEGIN:VEVENT
DTSTART;TZID=Pacific/Auckland:20250524T080000
DTEND;TZID=Pacific/Auckland:20250524T123000
DTSTAMP:20260420T102856
CREATED:20250423T222437Z
LAST-MODIFIED:20250429T232641Z
UID:1846-1748073600-1748089800@worldsmokefreemay.nz
SUMMARY:Hauora at the Courts
DESCRIPTION:This World Smokefree May\, we’re bringing hauora to the heart of our community at Tauranga Netball. Join us courtside as we engage with players\, whānau\, and supporters to promote positive health and wellbeing. \nOur goal is to encourage those who are thinking about quitting smoking to take the first step by connecting with their local stop smoking service and accessing free\, supportive help. \nCome visit our promotional stall for resources\, key smokefree messages\, and friendly kōrero. Whether you’re ready to quit\, want to support someone else\, or simply learn more\, we’re here for it all.
URL:https://worldsmokefreemay.nz/event/hauora-at-the-courts/
LOCATION:Tauranga Netball Center\, 583B Maunganui Rd\, Mount Maunganui\, 3116
CATEGORIES:Midlands
ATTACH;FMTTYPE=image/png:https://worldsmokefreemay.nz/wp-content/uploads/2025/04/WBoP-Hauora-at-the-Courts-2.png
END:VEVENT
BEGIN:VEVENT
DTSTART;TZID=Pacific/Auckland:20250523T190000
DTEND;TZID=Pacific/Auckland:20250523T210000
DTSTAMP:20260420T102857
CREATED:20250521T222709Z
LAST-MODIFIED:20250521T222709Z
UID:2366-1748026800-1748034000@worldsmokefreemay.nz
SUMMARY:Fresh Festival of Diversity - Smokefree Pool Party
DESCRIPTION:Free Entry\, Food & Drinks\, Fades & Braids\, Clubkingz Acadamy Dj’s & Spot Prizes
URL:https://worldsmokefreemay.nz/event/fresh-festival-of-diversity-smokefree-pool-party/
LOCATION:Te Pou Toe Toe Pools\, 141 Smith Street\, Linwood\, Christchurch
CATEGORIES:South Island
ATTACH;FMTTYPE=image/jpeg:https://worldsmokefreemay.nz/wp-content/uploads/2025/05/IMG_0397-4.jpg
END:VEVENT
BEGIN:VEVENT
DTSTART;TZID=Pacific/Auckland:20250523T153000
DTEND;TZID=Pacific/Auckland:20250523T163000
DTSTAMP:20260420T102857
CREATED:20250428T225922Z
LAST-MODIFIED:20250512T014741Z
UID:1910-1748014200-1748017800@worldsmokefreemay.nz
SUMMARY:Zumba - Massey
DESCRIPTION:Ready to move\, groove\, and breathe free? Join our free Community Zumba Sessions designed to boost your health\, lift your mood\, and support your journey to quit smoking. No pressure\, just positive vibes\, energetic music\, and a fun way to take control of your well-being. All fitness levels welcome!
URL:https://worldsmokefreemay.nz/event/massey-zumba-3/
LOCATION:Massey Hub\, 385 Don Buck Road\, Auckland
CATEGORIES:Auckland
END:VEVENT
BEGIN:VEVENT
DTSTART;TZID=Pacific/Auckland:20250523T150000
DTEND;TZID=Pacific/Auckland:20250523T190000
DTSTAMP:20260420T102857
CREATED:20250522T211927Z
LAST-MODIFIED:20250522T211927Z
UID:2380-1748012400-1748026800@worldsmokefreemay.nz
SUMMARY:West Block Party
DESCRIPTION:West Block Party – Free Family Fun Day!
URL:https://worldsmokefreemay.nz/event/west-block-party/
LOCATION:Zeal West\, 20 Alderman Drive\, Henderson\, Auckland\, 0650\, New Zealand
CATEGORIES:Auckland
END:VEVENT
BEGIN:VEVENT
DTSTART;TZID=Pacific/Auckland:20250523T150000
DTEND;TZID=Pacific/Auckland:20250523T170000
DTSTAMP:20260420T102857
CREATED:20250522T211828Z
LAST-MODIFIED:20250522T211828Z
UID:2378-1748012400-1748019600@worldsmokefreemay.nz
SUMMARY:Massey Matters Youth Week
DESCRIPTION:Massey Matters – Everyone Welcome! A safe place to build Relationships.
URL:https://worldsmokefreemay.nz/event/massey-matters-youth-week/
LOCATION:Massey Hub\, 385 Don Buck Road\, Auckland
CATEGORIES:Auckland
END:VEVENT
BEGIN:VEVENT
DTSTART;TZID=Pacific/Auckland:20250523T150000
DTEND;TZID=Pacific/Auckland:20250523T170000
DTSTAMP:20260420T102857
CREATED:20250428T233017Z
LAST-MODIFIED:20250430T020756Z
UID:1954-1748012400-1748019600@worldsmokefreemay.nz
SUMMARY:Inspiring Change through Positive Action
DESCRIPTION:Commmunity/Rangatahi/Whanau engagement through a public event at the Kerikeri Domain/Skate Park. Activities include – That’s Us/Smokefree Street campaign\, Online survey continued\, Rnagatahi Voice – Incubation Tank for Rangatahi who are interested in developing their own initiatives\, Whanau Voice – a opportunity for whanau and public to offer insights via a feedback station\, fun activities – basketball challenge\, chalk art\, kai\, music\, barber and braids.
URL:https://worldsmokefreemay.nz/event/inspiring-change-through-positive-action-2/
LOCATION:Kerikeri Domain\, 10 Cobham Road\, Kerikeri
CATEGORIES:Tai Tokerau
END:VEVENT
BEGIN:VEVENT
DTSTART;TZID=Pacific/Auckland:20250523T100000
DTEND;TZID=Pacific/Auckland:20250523T120000
DTSTAMP:20260420T102857
CREATED:20250513T021633Z
LAST-MODIFIED:20250513T021633Z
UID:2342-1747994400-1748001600@worldsmokefreemay.nz
SUMMARY:Smokefree May Pottery Making
DESCRIPTION:Join us for a relaxing pottery-making session—a great way to keep your hands busy and your mind focused as part of your smokefree journey. \nWhether you’re just starting out\, thinking about quitting\, or simply want to stay on track\, this creative space is all about support\, connection\, and doing something positive for yourself. \nNo experience needed—all materials are provided. Just come along\, get your hands dirty (with clay!)\, and enjoy a calm\, encouraging environment. \nLet’s shape something new—together.
URL:https://worldsmokefreemay.nz/event/smokefree-may-pottery-making/
LOCATION:The Arts Village\, 240 Hinemaru Street\, Rotorua\, New Zealand
CATEGORIES:Midlands
ATTACH;FMTTYPE=application/pdf:https://worldsmokefreemay.nz/wp-content/uploads/2025/05/Manaaki-Ora-Pottery-Class-9.pdf
END:VEVENT
BEGIN:VEVENT
DTSTART;TZID=Pacific/Auckland:20250522T190000
DTEND;TZID=Pacific/Auckland:20250522T200000
DTSTAMP:20260420T102857
CREATED:20250428T225220Z
LAST-MODIFIED:20250501T015316Z
UID:1908-1747940400-1747944000@worldsmokefreemay.nz
SUMMARY:Zumba - Papakura
DESCRIPTION:Ready to move\, groove\, and breathe free? Join our free Community Zumba Sessions designed to boost your health\, lift your mood\, and support your journey to quit smoking. No pressure\, just positive vibes\, energetic music\, and a fun way to take control of your well-being. All fitness levels welcome!
URL:https://worldsmokefreemay.nz/event/papakura-zumba-session-for-wahine-ma-3/
LOCATION:Red Hill Community Centre\, 163 Dominion Road\, Papakura\, Red Hill Community Centre\, 163 Dominion Road\, Papakura
CATEGORIES:Auckland
ATTACH;FMTTYPE=application/pdf:https://worldsmokefreemay.nz/wp-content/uploads/2025/04/KC-Zumba-Evenings-with-J-1-3.pdf
END:VEVENT
BEGIN:VEVENT
DTSTART;TZID=Pacific/Auckland:20250522T173000
DTEND;TZID=Pacific/Auckland:20250522T183000
DTSTAMP:20260420T102857
CREATED:20250430T000413Z
LAST-MODIFIED:20250501T220804Z
UID:2038-1747935000-1747938600@worldsmokefreemay.nz
SUMMARY:Pasifika Stop Smoking Challenge
DESCRIPTION:Weekly drive thru for participants registered to Pasifika Stop Smoking Challenge.\nParticipants connect with coaches\, are smokelyser tested\, receive NRT.
URL:https://worldsmokefreemay.nz/event/pasifika-stop-smoking-challenge-4/
LOCATION:Gisborne Railway Station\, 268 Grey Street\, Gisborne
CATEGORIES:Tairāwhiti
ATTACH;FMTTYPE=image/png:https://worldsmokefreemay.nz/wp-content/uploads/2025/04/Screenshot-2025-05-02-100050.png
END:VEVENT
BEGIN:VEVENT
DTSTART;TZID=Pacific/Auckland:20250522T110000
DTEND;TZID=Pacific/Auckland:20250522T130000
DTSTAMP:20260420T102857
CREATED:20250512T212606Z
LAST-MODIFIED:20250512T212606Z
UID:2310-1747911600-1747918800@worldsmokefreemay.nz
SUMMARY:SmokeFree May Te Taiwhenua o Heretaunga Events
DESCRIPTION:Smokefree Promotion
URL:https://worldsmokefreemay.nz/event/smokefree-may-te-taiwhenua-o-heretaunga-events/
LOCATION:Hastings Kmart\, Hastings\, New Zealand
CATEGORIES:Midlands
ATTACH;FMTTYPE=application/pdf:https://worldsmokefreemay.nz/wp-content/uploads/2025/05/SMOKE-FREE-MAY-EVENTS.pdf
END:VEVENT
BEGIN:VEVENT
DTSTART;TZID=Pacific/Auckland:20250522T100000
DTEND;TZID=Pacific/Auckland:20250522T110000
DTSTAMP:20260420T102857
CREATED:20250512T232613Z
LAST-MODIFIED:20250512T232613Z
UID:2338-1747908000-1747911600@worldsmokefreemay.nz
SUMMARY:Coffee Chats
DESCRIPTION:Come have a catch up and a coffee on us! RSVP to your local Stop Smoking Practitioner and let them know you’ll be joining them for a coffee and chat about becoming smokefree. RSVP to 027 448 7501 or 027 279 5373
URL:https://worldsmokefreemay.nz/event/coffee-chats-2/
LOCATION:Wai Ariki Hotsprings and Spa Cafe\, 1047 Whakaue Street\, Rotorua\, New Zealand
CATEGORIES:Midlands
ATTACH;FMTTYPE=image/png:https://worldsmokefreemay.nz/wp-content/uploads/2025/05/Thursday-22nd.png
END:VEVENT
BEGIN:VEVENT
DTSTART;TZID=Pacific/Auckland:20250521T180000
DTEND;TZID=Pacific/Auckland:20250521T190000
DTSTAMP:20260420T102857
CREATED:20250430T005459Z
LAST-MODIFIED:20250430T005737Z
UID:2050-1747850400-1747854000@worldsmokefreemay.nz
SUMMARY:Xtreme Hip Hop Smokefree classes
DESCRIPTION:In celebration of World Smokefree May\, we’re partnering with Hāpai Te Hauora and Love Wainuiomata to bring Xtreme Hip Hop Step classes to whānau here in the ‘Nui’ throughout the month of May!\nJoin us\, get moving\, and encourage your whānau to kickstart a smokefree lifestyle journey this May — let’s celebrate health\, movement\, and community together!
URL:https://worldsmokefreemay.nz/event/xtreme-hip-hop-smokefree-classes-3/
LOCATION:Wainuiomata High School\, 60 Parkway Rd\, Wainuiomata
CATEGORIES:Central Region
END:VEVENT
BEGIN:VEVENT
DTSTART;TZID=Pacific/Auckland:20250521T100000
DTEND;TZID=Pacific/Auckland:20250521T150000
DTSTAMP:20260420T102857
CREATED:20250501T214859Z
LAST-MODIFIED:20250519T030319Z
UID:2211-1747821600-1747839600@worldsmokefreemay.nz
SUMMARY:GenZ Tairāwhiti - Youth Week
DESCRIPTION:Dive into GenZ\, a dynamic event packed with energy\, inspiration\, and connection. \nSome exciting things happening include – Waka Ama challenge\, Youth Services\, Careers & Training Pathways\, Mental Health Support\, Auahi Kore (Smokefree) – WSFM\, Local Sports Clubs\, Photo Booth\, and a Chill Zone. \nKeynote Speaker: Akayshia Williams“World Champion\, Local Roots: The Journey of Resilience & Passion”Be moved by world champion Akayshia Williams\, as she shares her incredible journey from local beginnings to global success. Her inspiring talk will be followed by an interactive Q&A session.
URL:https://worldsmokefreemay.nz/event/genz-tairawhiti/
LOCATION:Lawson Field Theatre\, 7 Fitzherbert Street\, Gisborne
CATEGORIES:Tairāwhiti
ATTACH;FMTTYPE=application/pdf:https://worldsmokefreemay.nz/wp-content/uploads/2025/05/youth-poster-1.pdf
END:VEVENT
BEGIN:VEVENT
DTSTART;TZID=Pacific/Auckland:20250521T100000
DTEND;TZID=Pacific/Auckland:20250521T110000
DTSTAMP:20260420T102857
CREATED:20250512T232213Z
LAST-MODIFIED:20250512T232213Z
UID:2334-1747821600-1747825200@worldsmokefreemay.nz
SUMMARY:Coffee Chats
DESCRIPTION:Come have a catch up and a coffee on us! RSVP to your local Stop Smoking Practitioner Roberta on 027 279 5373 and let her know you’ll be joining her for a coffee and chat about becoming smokefree.
URL:https://worldsmokefreemay.nz/event/coffee-chats/
LOCATION:Baked with Love Cafe\, 11 Gascoigne Street\, Taupo\, New Zealand
CATEGORIES:Midlands
ATTACH;FMTTYPE=image/png:https://worldsmokefreemay.nz/wp-content/uploads/2025/05/Wednesday-21st.png
END:VEVENT
BEGIN:VEVENT
DTSTART;TZID=Pacific/Auckland:20250521T080000
DTEND;TZID=Pacific/Auckland:20250521T170000
DTSTAMP:20260420T102857
CREATED:20250521T224053Z
LAST-MODIFIED:20250521T224053Z
UID:2374-1747814400-1747846800@worldsmokefreemay.nz
SUMMARY:Healthy Heart Checks
DESCRIPTION:Te Tai o Poutini | West Coast Health Promotors are partnering with the Heart Foundation for their Healthy Heart Checks
URL:https://worldsmokefreemay.nz/event/healthy-heart-checks-2/
LOCATION:New World\, 244 Palmerston Street\, Westport
CATEGORIES:South Island
ATTACH;FMTTYPE=image/png:https://worldsmokefreemay.nz/wp-content/uploads/2025/05/Screenshot-2025-05-22-101424.png
END:VEVENT
BEGIN:VEVENT
DTSTART;VALUE=DATE:20250521
DTEND;VALUE=DATE:20250523
DTSTAMP:20260420T102857
CREATED:20250414T004448Z
LAST-MODIFIED:20250430T021923Z
UID:1840-1747785600-1747958399@worldsmokefreemay.nz
SUMMARY:Te Kohi Kai Noho - Youth Week 2025
DESCRIPTION:Led by Mahi Kai Trust\, Te Kohi Kai Noho is a unique kaupapa taking place during Youth Week and Smokefree May. \nThis event weaves together mātauranga Māori\, traditional weaving\, and the knowledge of kai gathering. It is a space for rangatahi to reconnect with cultural practices\, learn from local weavers in Whakatāne\, and engage in kōrero about the significance of kai\, whenua\, and hauora. \nThroughout the event\, smokefree messages will be interwoven—highlighting the importance of living well for ourselves\, our whānau\, and future generations. The kaupapa will culminate in a celebration\, bringing together participants to acknowledge their learning\, connections\, and commitment to a smokefree future. \nNote: Registrations are now CLOSED
URL:https://worldsmokefreemay.nz/event/te-kohi-kai-noho-youth-week-2025/
LOCATION:60 Hoetene Street Whakatane\, 60 Hoetene Street\, Whakatane\, New Zealand
CATEGORIES:Midlands
ATTACH;FMTTYPE=image/jpeg:https://worldsmokefreemay.nz/wp-content/uploads/2025/04/Te-Kohi-Kai-printed-version.jpg
END:VEVENT
BEGIN:VEVENT
DTSTART;TZID=Pacific/Auckland:20250520T183000
DTEND;TZID=Pacific/Auckland:20250520T193000
DTSTAMP:20260420T102857
CREATED:20250428T225123Z
LAST-MODIFIED:20250430T035109Z
UID:1906-1747765800-1747769400@worldsmokefreemay.nz
SUMMARY:Step Class - ZEAL Henderson
DESCRIPTION:Step up to a healthier you! Join our energizing Step Classes designed to get your heart pumping and support your smokefree goals. It’s fun\, it’s free\, and it’s the perfect way to build strength while breaking the habit. Let’s step toward a smokefree future together.
URL:https://worldsmokefreemay.nz/event/zeal-henderson-step-class/
LOCATION:Zeal West\, 20 Alderman Drive\, Henderson\, Auckland\, 0650\, New Zealand
CATEGORIES:Auckland
END:VEVENT
BEGIN:VEVENT
DTSTART;TZID=Pacific/Auckland:20250520T173000
DTEND;TZID=Pacific/Auckland:20250520T183000
DTSTAMP:20260420T102857
CREATED:20250512T005436Z
LAST-MODIFIED:20250512T005608Z
UID:2302-1747762200-1747765800@worldsmokefreemay.nz
SUMMARY:Smokefree Huringa Pai Whanau Fitness Sessions
DESCRIPTION:We’re thrilled to share that Huringa Pai Charitable Trust is teaming up with Hāpai Te Hauora to amplify our support for whānau on their smoke free journeys. Join us for our Smokefree Huringa Pai Whānau Fitness Sessions! Let’s get moving together and embrace a Smokefree healthier lifestyle! Bring your whānau and let’s move towards a healthier future together!
URL:https://worldsmokefreemay.nz/event/2299/
LOCATION:Ilminster Intermediate School Gym\, 70 De Lautour Road\, Gisborne\, New Zealand
CATEGORIES:Tairāwhiti
ATTACH;FMTTYPE=image/png:https://worldsmokefreemay.nz/wp-content/uploads/2025/05/Your-paragraph-text-2.png
END:VEVENT
BEGIN:VEVENT
DTSTART;TZID=Pacific/Auckland:20250520T120000
DTEND;TZID=Pacific/Auckland:20250520T130000
DTSTAMP:20260420T102857
CREATED:20250428T225040Z
LAST-MODIFIED:20250430T033557Z
UID:1904-1747742400-1747746000@worldsmokefreemay.nz
SUMMARY:Zumba Session for Wāhine ma - Papakura
DESCRIPTION:For Zumba – FUN AND FREE from the harms of tobacco!! Inviting all wāhine ma to join in and learn some new dance moves. Welcoming space to discuss all things Smokefree! Bring your questions and your dancing shoes to the weekly classes and let’s start our Smokefree journey together!
URL:https://worldsmokefreemay.nz/event/papakura-zumba-session-for-wahine-ma-2/
LOCATION:Elizabeth Campbell Hall\, Elizabeth Campbell Hall\, 294 Great South Road\, Papakura
CATEGORIES:Auckland
END:VEVENT
END:VCALENDAR