BEGIN:VCALENDAR
VERSION:2.0
PRODID:-//World Smokefree May - ECPv6.15.20//NONSGML v1.0//EN
CALSCALE:GREGORIAN
METHOD:PUBLISH
X-WR-CALNAME:World Smokefree May
X-ORIGINAL-URL:https://worldsmokefreemay.nz
X-WR-CALDESC:Events for World Smokefree May
REFRESH-INTERVAL;VALUE=DURATION:PT1H
X-Robots-Tag:noindex
X-PUBLISHED-TTL:PT1H
BEGIN:VTIMEZONE
TZID:Pacific/Auckland
BEGIN:STANDARD
TZOFFSETFROM:+1300
TZOFFSETTO:+1200
TZNAME:NZST
DTSTART:20240406T140000
END:STANDARD
BEGIN:DAYLIGHT
TZOFFSETFROM:+1200
TZOFFSETTO:+1300
TZNAME:NZDT
DTSTART:20240928T140000
END:DAYLIGHT
BEGIN:STANDARD
TZOFFSETFROM:+1300
TZOFFSETTO:+1200
TZNAME:NZST
DTSTART:20250405T140000
END:STANDARD
BEGIN:DAYLIGHT
TZOFFSETFROM:+1200
TZOFFSETTO:+1300
TZNAME:NZDT
DTSTART:20250927T140000
END:DAYLIGHT
BEGIN:STANDARD
TZOFFSETFROM:+1300
TZOFFSETTO:+1200
TZNAME:NZST
DTSTART:20260404T140000
END:STANDARD
BEGIN:DAYLIGHT
TZOFFSETFROM:+1200
TZOFFSETTO:+1300
TZNAME:NZDT
DTSTART:20260926T140000
END:DAYLIGHT
END:VTIMEZONE
BEGIN:VEVENT
DTSTART;TZID=Pacific/Auckland:20250519T160000
DTEND;TZID=Pacific/Auckland:20250519T180000
DTSTAMP:20260420T163822
CREATED:20250430T010636Z
LAST-MODIFIED:20250512T231736Z
UID:2057-1747670400-1747677600@worldsmokefreemay.nz
SUMMARY:Fordlands Monday Funday
DESCRIPTION:Kick off your week the right way with Fordlands Fundays!\nCome down for:\n🍽️ Free community dinners\n🏀 Sports and games for all ages\n🎉 Good vibes\, good kai\, and great company \nA space for community to connect and play. Everyone’s welcome!
URL:https://worldsmokefreemay.nz/event/fordlands-funday-3/
LOCATION:Huia Lyons Skate Park & Reserve\, Bellingham Crescent\, Rotorua\, New Zealand
CATEGORIES:Midlands
ATTACH;FMTTYPE=image/jpeg:https://worldsmokefreemay.nz/wp-content/uploads/2025/04/IMG_2528.jpg
END:VEVENT
BEGIN:VEVENT
DTSTART;TZID=Pacific/Auckland:20250519T100000
DTEND;TZID=Pacific/Auckland:20250519T130000
DTSTAMP:20260420T163822
CREATED:20250506T020704Z
LAST-MODIFIED:20250506T020704Z
UID:2275-1747648800-1747659600@worldsmokefreemay.nz
SUMMARY:Smokefree Drop in Support
DESCRIPTION:Ditch the Smokefree this May! Come down for a kōrero with Quit Coach Chloe about support with Smoking or Vaping. Every Monday in May\, you can find Chloe at the Health Hub ready to support you to become smokefree!
URL:https://worldsmokefreemay.nz/event/smokefree-drop-in-support-3/
LOCATION:Health Hub\, 22 Queen Street\, Blenheim
CATEGORIES:South Island
ATTACH;FMTTYPE=image/jpeg:https://worldsmokefreemay.nz/wp-content/uploads/2025/05/Smokefree-drop-in-support-poster-Smokefree-May-.jpg
END:VEVENT
BEGIN:VEVENT
DTSTART;VALUE=DATE:20250519
DTEND;VALUE=DATE:20250523
DTSTAMP:20260420T163822
CREATED:20250428T232902Z
LAST-MODIFIED:20250430T020903Z
UID:1950-1747612800-1747958399@worldsmokefreemay.nz
SUMMARY:Inspiring Change through Positive Action
DESCRIPTION:An online survey/insight gathering exercise aimed at rangatahi and their whānau.
URL:https://worldsmokefreemay.nz/event/inspiring-change-through-positive-action/
LOCATION:Kerikeri Domain\, 10 Cobham Road\, Kerikeri
CATEGORIES:Tai Tokerau
END:VEVENT
BEGIN:VEVENT
DTSTART;TZID=Pacific/Auckland:20250517T100000
DTEND;TZID=Pacific/Auckland:20250517T150000
DTSTAMP:20260420T163822
CREATED:20250429T010632Z
LAST-MODIFIED:20250430T224836Z
UID:1984-1747476000-1747494000@worldsmokefreemay.nz
SUMMARY:Mana o Saute
DESCRIPTION:Vibrant community events organised by Pasifika Mana o Saute. These events aim to bring Pasifika youth\, their families\, and communities together through various activities that promote fitness\, skill-building\, and social connection. Key activities include:\nZumba sessions: Fun\, high-energy workouts to promote health and well-being.\nSkills and drills for children and youth: Engaging activities to develop coordination\, teamwork\, and confidence.\nGame nights: Interactive\, family-friendly gatherings to strengthen community bonds.\nCultural and social events: Celebrations of Pasifika identity and connection.\nThe events are designed to empower communities through health\, culture\, and collective engagement\, fostering a sense of belonging and whanau well-being.
URL:https://worldsmokefreemay.nz/event/mana-o-saute-2/
LOCATION:Hallswell Center\, 341 Halswell Road\, Christchurch
CATEGORIES:South Island
ATTACH;FMTTYPE=image/jpeg:https://worldsmokefreemay.nz/wp-content/uploads/2025/04/File.jpg
END:VEVENT
BEGIN:VEVENT
DTSTART;VALUE=DATE:20250517
DTEND;VALUE=DATE:20250519
DTSTAMP:20260420T163822
CREATED:20250429T005624Z
LAST-MODIFIED:20250430T015941Z
UID:1968-1747440000-1747612799@worldsmokefreemay.nz
SUMMARY:Manawa Ora Mirimiri Workshops
DESCRIPTION:Manawa Ora is teaming up with Hāpai te Hauora to celebrate World Smokefree Month in May! With 10 sponsored placements for the next Manawa Ora Mirimiri and Wellbeing Workshop.\nThe Manawa Ora Mirimiri and Wellbeing workshop will be held in Wellington.\nWorkshop Content includes:\n\nIntro to Rongoā Māori and traditional healing\nWellbeing from a cultural / Te Ao Māori perspective\nOverview of cultural concepts and philosophy\nIntro to mirimiri / hands-on / group activities\nWaiata/karakia\nSelf-care and developing self-awareness\n\nManawa Ora is the largest provider of Rongoā Māori in the Wellington Region. Jolie Davis (facilitator) has 30 years of experience in Mirimiri and Romiromi (traditional healing and bodywork) and is a panel member on the ACC Rongoā Māori Advisory panel.\n  \nDetails Here
URL:https://worldsmokefreemay.nz/event/manawa-ora-mirimiri-workshops/
LOCATION:Manawa Ora\, 191 Thorndon Quay\, Wellington
CATEGORIES:Central Region
END:VEVENT
BEGIN:VEVENT
DTSTART;TZID=Pacific/Auckland:20250516T180000
DTEND;TZID=Pacific/Auckland:20250516T210000
DTSTAMP:20260420T163822
CREATED:20250428T232548Z
LAST-MODIFIED:20250428T232732Z
UID:1947-1747418400-1747429200@worldsmokefreemay.nz
SUMMARY:He Titiro Whakamuri kia Anga Whakamua
DESCRIPTION:Auahikore Marae Draft Plan 2025/26 and beyond – a speed date with Marae\, Hapu\, Education and Health Sector to shape and input into a Marae\, Hapu Auahikore movement for Taitokerau and across the Motu.
URL:https://worldsmokefreemay.nz/event/he-titiro-whakamuri-kia-anga-whakamua-2/
LOCATION:Ihalam Cafe\, 87 Broadway\, Kaikohe
CATEGORIES:Tai Tokerau
END:VEVENT
BEGIN:VEVENT
DTSTART;TZID=Pacific/Auckland:20250516T153000
DTEND;TZID=Pacific/Auckland:20250516T163000
DTSTAMP:20260420T163822
CREATED:20250428T224942Z
LAST-MODIFIED:20250512T014432Z
UID:1902-1747409400-1747413000@worldsmokefreemay.nz
SUMMARY:Zumba - Massey
DESCRIPTION:Ready to move\, groove\, and breathe free? Join our free Community Zumba Sessions designed to boost your health\, lift your mood\, and support your journey to quit smoking. No pressure\, just positive vibes\, energetic music\, and a fun way to take control of your well-being. All fitness levels welcome!
URL:https://worldsmokefreemay.nz/event/massey-zumba-2/
CATEGORIES:Auckland
END:VEVENT
BEGIN:VEVENT
DTSTART;TZID=Pacific/Auckland:20250516T100000
DTEND;TZID=Pacific/Auckland:20250516T170000
DTSTAMP:20260420T163822
CREATED:20250429T005336Z
LAST-MODIFIED:20250429T224457Z
UID:1965-1747389600-1747414800@worldsmokefreemay.nz
SUMMARY:Taonga Puoro Wananga
DESCRIPTION:Event Highlight \nPart One: Sharing pūrākau of Raukatauri (Atua of Taonga Pūoro)\, followed by a guided experience with Taonga Pūoro. This session involves storytelling using sound to journey from creation into self-healing. \nPart Two: Sharing of kōrero in a porowhita (circle discussion). \nPart Three: Learning and making Taonga Pūoro (Ukutangi) for self-healing\, combined with storytelling around Atuatanga specific to Taonga Pūoro. \nAdditional Details: \nLunch is catered for registered participants. \nRegistration form is attached\, and expression of interest can be submitted via QR Code linking to Hemi@kokiri-hauora.org.nz email\, and Takiri Mai te Ata RSSS Facebook page. \nThis Wananga is enriching and immersive\, blending cultural traditions and self-care through music\, pūrākau\, and also whakapapa while creating your own Taonga for personal use. \nPlease fill out the PDF form to register or email Hemi@kokiri-hauora.org.nz \n\nRegister here
URL:https://worldsmokefreemay.nz/event/taonga-puoro-wananga-2/
LOCATION:Wharewaka\, 2 Taranaki Street\, Wellington
CATEGORIES:Central Region
END:VEVENT
BEGIN:VEVENT
DTSTART;TZID=Pacific/Auckland:20250515T190000
DTEND;TZID=Pacific/Auckland:20250515T200000
DTSTAMP:20260420T163822
CREATED:20250428T224902Z
LAST-MODIFIED:20250501T015157Z
UID:1900-1747335600-1747339200@worldsmokefreemay.nz
SUMMARY:Zumba - Papakura
DESCRIPTION:Ready to move\, groove\, and breathe free? Join our free Community Zumba Sessions designed to boost your health\, lift your mood\, and support your journey to quit smoking. No pressure\, just positive vibes\, energetic music\, and a fun way to take control of your well-being. All fitness levels welcome!
URL:https://worldsmokefreemay.nz/event/papakua-zumba/
LOCATION:Red Hill Community Centre\, 163 Dominion Road\, Papakura\, Red Hill Community Centre\, 163 Dominion Road\, Papakura
CATEGORIES:Auckland
ATTACH;FMTTYPE=application/pdf:https://worldsmokefreemay.nz/wp-content/uploads/2025/04/KC-Zumba-Evenings-with-J-1-2.pdf
END:VEVENT
BEGIN:VEVENT
DTSTART;TZID=Pacific/Auckland:20250515T173000
DTEND;TZID=Pacific/Auckland:20250515T210000
DTSTAMP:20260420T163822
CREATED:20250428T232102Z
LAST-MODIFIED:20250430T045129Z
UID:1941-1747330200-1747342800@worldsmokefreemay.nz
SUMMARY:Moerewa League Club
DESCRIPTION:Taane/Players Wananga – What is SUDI and Safe Sleeping\, and what is a Papa’s role? Polo shirt Promotion – Post Game wear to Promote Safe Sleeping\, Tamariki Tournament – That’s Us Campaign and Smokefree Streets. Polo T Shirt Launch evening – Players and Whanau. There are three dates for this activation\, which is a collaboration with Moerewa League Club\, SUDI and Auahikore
URL:https://worldsmokefreemay.nz/event/moerewa-league-club/
LOCATION:Moerewa Rugby League Club\, 14 Leaity Street\, Moerewa
CATEGORIES:Tai Tokerau
END:VEVENT
BEGIN:VEVENT
DTSTART;TZID=Pacific/Auckland:20250515T173000
DTEND;TZID=Pacific/Auckland:20250515T183000
DTSTAMP:20260420T163822
CREATED:20250429T234147Z
LAST-MODIFIED:20250501T220702Z
UID:2030-1747330200-1747333800@worldsmokefreemay.nz
SUMMARY:Pasifika Stop Smoking Challenge
DESCRIPTION:Weekly drive thru for participants registered to Pasifika Stop Smoking Challenge.\nParticipants connect with coaches\, are smokelyser tested\, receive NRT.
URL:https://worldsmokefreemay.nz/event/pasifika-stop-smoking-challenge-2/
LOCATION:Gisborne Railway Station\, 268 Grey Street\, Gisborne
CATEGORIES:Tairāwhiti
ATTACH;FMTTYPE=image/png:https://worldsmokefreemay.nz/wp-content/uploads/2025/04/Screenshot-2025-05-02-100050.png
END:VEVENT
BEGIN:VEVENT
DTSTART;TZID=Pacific/Auckland:20250515T110000
DTEND;TZID=Pacific/Auckland:20250515T123000
DTSTAMP:20260420T163822
CREATED:20250512T004151Z
LAST-MODIFIED:20250512T004151Z
UID:2294-1747306800-1747312200@worldsmokefreemay.nz
SUMMARY:Let's Clear the Air
DESCRIPTION:Join us for our fortnightly “Clear the Air’ pop up where you can chat with one of our team and discuss any smoking or vaping questions and concerns you have.
URL:https://worldsmokefreemay.nz/event/auto-draft-2/
LOCATION:Richmond Library\, 280 Queen Street\, Richmond\, 7050\, New Zealand
CATEGORIES:South Island
END:VEVENT
BEGIN:VEVENT
DTSTART;TZID=Pacific/Auckland:20250514T183000
DTEND;TZID=Pacific/Auckland:20250514T200000
DTSTAMP:20260420T163822
CREATED:20250429T231947Z
LAST-MODIFIED:20250429T231947Z
UID:2021-1747247400-1747252800@worldsmokefreemay.nz
SUMMARY:Hauora at the Courts
DESCRIPTION:This World Smokefree May\, we’re bringing hauora to the heart of our community at Tauranga Netball. Join us courtside as we engage with players\, whānau\, and supporters to promote positive health and wellbeing. \nOur goal is to encourage those who are thinking about quitting smoking to take the first step by connecting with their local stop smoking service and accessing free\, supportive help. \nCome visit our promotional stall for resources\, key smokefree messages\, and friendly kōrero. Whether you’re ready to quit\, want to support someone else\, or simply learn more\, we’re here for it all.
URL:https://worldsmokefreemay.nz/event/hauora-at-the-courts-2/
LOCATION:Tauranga Netball Center\, 583B Maunganui Rd\, Mount Maunganui\, 3116
CATEGORIES:Midlands
ATTACH;FMTTYPE=image/png:https://worldsmokefreemay.nz/wp-content/uploads/2025/04/WBoP-Hauora-at-the-Courts-2.png
END:VEVENT
BEGIN:VEVENT
DTSTART;TZID=Pacific/Auckland:20250514T183000
DTEND;TZID=Pacific/Auckland:20250514T193000
DTSTAMP:20260420T163822
CREATED:20250430T004908Z
LAST-MODIFIED:20250430T221429Z
UID:2048-1747247400-1747251000@worldsmokefreemay.nz
SUMMARY:Xtreme Hip Hop Smokefree classes
DESCRIPTION:In celebration of World Smokefree May\, we’re partnering with Hāpai Te Hauora and Love Wainuiomata to bring Xtreme Hip Hop Step classes to whānau here in the ‘Nui’ throughout the month of May!\nJoin us\, get moving\, and encourage your whānau to kickstart a smokefree lifestyle journey this May — let’s celebrate health\, movement\, and community together!
URL:https://worldsmokefreemay.nz/event/xtreme-hip-hop-smokefree-classes-2/
LOCATION:Wainuiomata Community Centre\, Queen Street\, Wainuiomata
CATEGORIES:Central Region
ATTACH;FMTTYPE=image/png:https://worldsmokefreemay.nz/wp-content/uploads/2025/04/Thats-us-Step-Class-Event-Poster.png
END:VEVENT
BEGIN:VEVENT
DTSTART;TZID=Pacific/Auckland:20250514T100000
DTEND;TZID=Pacific/Auckland:20250514T150000
DTSTAMP:20260420T163822
CREATED:20250429T002709Z
LAST-MODIFIED:20250429T225257Z
UID:1962-1747216800-1747234800@worldsmokefreemay.nz
SUMMARY:Taonga Puoro Wananga
DESCRIPTION:Program Highlights: \nPart One: Sharing pūrākau of Raukatauri (Atua of Taonga Pūoro)\, followed by a guided experience with Taonga Pūoro. This session involves storytelling using sound to journey from creation into self-healing. \nPart Two: Sharing of kōrero in a porowhita (circle discussion). \nPart Three: Learning and making Taonga Pūoro (Ukutangi) for self-healing\, combined with storytelling around Atuatanga specific to Taonga Pūoro. \nAdditional Details: \nLunch is catered for registered participants. \nRegistration form is attached\, and expression of interest can be submitted via QR Code linking to Hemi@kokiri-hauora.org.nz email\, and Takiri Mai te Ata RSSS Facebook page. \nThis Wananga is enriching and immersive\, blending cultural traditions and self-care through music\, pūrākau\, and also whakapapa while creating your own Taonga for personal use. \nPlease fill out the PDF form to register or email Hemi@kokiri-hauora.org.nz \nRegister Here
URL:https://worldsmokefreemay.nz/event/taonga-puoro-wananga/
LOCATION:Whakarongotai Marae\, 2/4 Mahara Place\, Waikanae
CATEGORIES:Central Region
ATTACH;FMTTYPE=image/png:https://worldsmokefreemay.nz/wp-content/uploads/2025/04/ORO-ATUA-wananga-poster.png
END:VEVENT
BEGIN:VEVENT
DTSTART;TZID=Pacific/Auckland:20250513T183000
DTEND;TZID=Pacific/Auckland:20250513T193000
DTSTAMP:20260420T163822
CREATED:20250428T224806Z
LAST-MODIFIED:20250430T042448Z
UID:1898-1747161000-1747164600@worldsmokefreemay.nz
SUMMARY:Hip Hop Dance Class - ZEAL Henderson
DESCRIPTION:Drop the smokes and hit the beats! Our free Hip Hop Dance Classes are all about fresh moves\, good vibes\, and supporting your smokefree journey. Whether you’re a beginner or a seasoned dancer\, come groove with us and take a powerful step toward better health one beat at a time!
URL:https://worldsmokefreemay.nz/event/zeal-henderson-hip-hop-dance-class/
LOCATION:Zeal West\, 20 Alderman Drive\, Henderson\, Auckland\, 0650\, New Zealand
CATEGORIES:Auckland
END:VEVENT
BEGIN:VEVENT
DTSTART;TZID=Pacific/Auckland:20250513T173000
DTEND;TZID=Pacific/Auckland:20250513T183000
DTSTAMP:20260420T163822
CREATED:20250512T005322Z
LAST-MODIFIED:20250512T005322Z
UID:2299-1747157400-1747161000@worldsmokefreemay.nz
SUMMARY:Smokefree Huringa Pai Whanau Fitness Sessions
DESCRIPTION:We’re thrilled to share that Huringa Pai Charitable Trust is teaming up with Hāpai Te Hauora to amplify our support for whānau on their smoke free journeys. Join us for our Smokefree Huringa Pai Whānau Fitness Sessions! Let’s get moving together and embrace a Smokefree healthier lifestyle! Bring your whānau and let’s move towards a healthier future together!
URL:https://worldsmokefreemay.nz/event/smokefree-huringa-pai-whanau-fitness-sessions-2/
LOCATION:Ilminster Intermediate School Gym\, 70 De Lautour Road\, Gisborne\, New Zealand
CATEGORIES:Tairāwhiti
ATTACH;FMTTYPE=image/png:https://worldsmokefreemay.nz/wp-content/uploads/2025/05/Your-paragraph-text-2.png
END:VEVENT
BEGIN:VEVENT
DTSTART;TZID=Pacific/Auckland:20250513T120000
DTEND;TZID=Pacific/Auckland:20250513T130000
DTSTAMP:20260420T163822
CREATED:20250428T224705Z
LAST-MODIFIED:20250430T033944Z
UID:1896-1747137600-1747141200@worldsmokefreemay.nz
SUMMARY:Zumba Session for Wāhine ma - Papakura
DESCRIPTION:FUN AND FREE from the harms of tobacco!! Inviting all wāhine ma to join in and learn some new dance moves. Welcoming space to discuss all things Smokefree! Bring your questions and your dancing shoes to the weekly classes and let’s start our Smokefree journey together!
URL:https://worldsmokefreemay.nz/event/papakura-zumba-session-for-wahine-ma/
LOCATION:Elizabeth Campbell Hall\, Elizabeth Campbell Hall\, 294 Great South Road\, Papakura
CATEGORIES:Auckland
END:VEVENT
BEGIN:VEVENT
DTSTART;TZID=Pacific/Auckland:20250513T090000
DTEND;TZID=Pacific/Auckland:20250513T120000
DTSTAMP:20260420T163822
CREATED:20250430T020227Z
LAST-MODIFIED:20250430T020515Z
UID:2069-1747126800-1747137600@worldsmokefreemay.nz
SUMMARY:Poipoia te wairua: EMDR therapy for smokers
DESCRIPTION:The project aims to offer Māori in the region an alternative way to address the underlying reasons behind their smoking behavior through Eye Movement Desensitisation and Reprocessing (EMDR) therapy. This evidence-based psychological intervention helps people break free from addiction by dealing with the root causes rather than just the behavior. The project will provide up to six free EMDR therapy sessions to Māori participants\, with incentives for attendance and successful quitting. \nThe core message is that addressing the emotional drivers behind smoking can make quitting easier. The project is designed to support those who have tried other methods but are still struggling with smoking addiction.
URL:https://worldsmokefreemay.nz/event/poipoia-te-wairua-emdr-therapy-for-smokers-2/
LOCATION:Te Kaika\, 15a Playfair Street\, Dunedin
CATEGORIES:South Island
END:VEVENT
BEGIN:VEVENT
DTSTART;TZID=Pacific/Auckland:20250512T170000
DTEND;TZID=Pacific/Auckland:20250512T193000
DTSTAMP:20260420T163822
CREATED:20250429T010451Z
LAST-MODIFIED:20250508T030035Z
UID:1981-1747069200-1747078200@worldsmokefreemay.nz
SUMMARY:Pacific Culture Workshops
DESCRIPTION:The Pasifika Cultural Arts and Crafts Workshop Series is a community-driven initiative designed to celebrate and preserve Pasifika cultural traditions. The workshops offer hands-on experiences in traditional art forms such as tapa cloth making\, weaving\, carving\, tattooing\, dance\, music\, and cultural storytelling. Objectives include:\n\nProviding a culturally enriching space for participants to engage in traditional Pasifika arts.\nFostering intergenerational knowledge-sharing by involving elders\, artists\, and youth.\n\nThe workshops aim to promote well-being and encourage positive lifestyle choices\, including a commitment to being smokefree. This will be achieved through:\nStorytelling and Creative Expression: Highlighting traditional values of health\, well-being\, and respect for the body.\nGuest Speakers and Visual Storytelling: Reinforcing the benefits of a smokefree lifestyle in an inclusive and supportive environment.
URL:https://worldsmokefreemay.nz/event/pacific-culture-workshops/
LOCATION:Te Aratai College\, 85 Aldwins Road\, Christchurch
CATEGORIES:South Island
ATTACH;FMTTYPE=image/jpeg:https://worldsmokefreemay.nz/wp-content/uploads/2025/04/Numana-Flyer.jpg
END:VEVENT
BEGIN:VEVENT
DTSTART;TZID=Pacific/Auckland:20250512T160000
DTEND;TZID=Pacific/Auckland:20250512T180000
DTSTAMP:20260420T163822
CREATED:20250429T230433Z
LAST-MODIFIED:20250512T231650Z
UID:2019-1747065600-1747072800@worldsmokefreemay.nz
SUMMARY:Fordlands Monday Funday
DESCRIPTION:Kick off your week the right way with Fordlands Fundays!\nCome down for:\n🍽️ Free community dinners\n🏀 Sports and games for all ages\n🎉 Good vibes\, good kai\, and great company \nA space for community to connect and play. Everyone’s welcome!
URL:https://worldsmokefreemay.nz/event/fordlands-funday-2/
LOCATION:Huia Lyons Skate Park & Reserve\, Bellingham Crescent\, Rotorua\, New Zealand
CATEGORIES:Midlands
ATTACH;FMTTYPE=image/jpeg:https://worldsmokefreemay.nz/wp-content/uploads/2025/04/IMG_2528.jpg
END:VEVENT
BEGIN:VEVENT
DTSTART;TZID=Pacific/Auckland:20250512T100000
DTEND;TZID=Pacific/Auckland:20250512T130000
DTSTAMP:20260420T163822
CREATED:20250506T020606Z
LAST-MODIFIED:20250506T020606Z
UID:2273-1747044000-1747054800@worldsmokefreemay.nz
SUMMARY:Smokefree Drop in Support
DESCRIPTION:Ditch the Smokefree this May! Come down for a kōrero with Quit Coach Chloe about support with Smoking or Vaping. Every Monday in May\, you can find Chloe at the Health Hub ready to support you to become smokefree!
URL:https://worldsmokefreemay.nz/event/smokefree-drop-in-support-2/
LOCATION:Health Hub\, 22 Queen Street\, Blenheim
CATEGORIES:South Island
ATTACH;FMTTYPE=image/jpeg:https://worldsmokefreemay.nz/wp-content/uploads/2025/05/Smokefree-drop-in-support-poster-Smokefree-May-.jpg
END:VEVENT
BEGIN:VEVENT
DTSTART;TZID=Pacific/Auckland:20250510T100000
DTEND;TZID=Pacific/Auckland:20250510T150000
DTSTAMP:20260420T163822
CREATED:20250429T010254Z
LAST-MODIFIED:20250430T013004Z
UID:1978-1746871200-1746889200@worldsmokefreemay.nz
SUMMARY:Mana o Saute
DESCRIPTION:Vibrant community events organised by Pasifika Mana o Saute. These events aim to bring Pasifika youth\, their families\, and communities together through various activities that promote fitness\, skill-building\, and social connection. Key activities include:\nZumba sessions: Fun\, high-energy workouts to promote health and well-being.\nSkills and drills for children and youth: Engaging activities to develop coordination\, teamwork\, and confidence.\nGame nights: Interactive\, family-friendly gatherings to strengthen community bonds.\nCultural and social events: Celebrations of Pasifika identity and connection.\nThe events are designed to empower communities through health\, culture\, and collective engagement\, fostering a sense of belonging and whanau well-being.\n 
URL:https://worldsmokefreemay.nz/event/mana-o-saute/
LOCATION:Hoonhay Park\, Mathers Road\, Christchurch
CATEGORIES:South Island
END:VEVENT
BEGIN:VEVENT
DTSTART;TZID=Pacific/Auckland:20250510T100000
DTEND;TZID=Pacific/Auckland:20250510T150000
DTSTAMP:20260420T163822
CREATED:20250423T223817Z
LAST-MODIFIED:20250423T223817Z
UID:1858-1746871200-1746889200@worldsmokefreemay.nz
SUMMARY:Recharge Your Hauora
DESCRIPTION:Join us for a special day dedicated to rejuvenating the hauora of our community. This is a time to reset\, set new goals\, and try something new that uplifts your wellbeing. Whether it’s through movement\, connection\, or simply having fun\, this day is about coming together\, stepping out of isolation\, and embracing the journey toward better health and happiness.\n\nWith a variety of free activities for all ages\, there’s something for everyone:\n✨ Mirimiri by Te Puna o Mataatua\n✨ Line dancing at the RSA\n✨ Karaoke & live music\n✨ Delicious healthy kai\n✨ Pampering – hair and nails\n✨ Tai Chi\n✨ Stop Smoking support and resources from Hāpainga SSS\n\nNo matter where you’re at in life\, it’s never too late to look after your hauora. Come along\, connect\, and leave feeling refreshed and inspired!
URL:https://worldsmokefreemay.nz/event/recharge-your-hauora/
LOCATION:recharge hauora\, 21 Richardson Street\, Whakatane
CATEGORIES:Midlands
END:VEVENT
BEGIN:VEVENT
DTSTART;TZID=Pacific/Auckland:20250510T100000
DTEND;TZID=Pacific/Auckland:20250510T130000
DTSTAMP:20260420T163822
CREATED:20250429T233908Z
LAST-MODIFIED:20250501T220303Z
UID:2027-1746871200-1746882000@worldsmokefreemay.nz
SUMMARY:Battle of the Pasifika Churches Whānau Day 
DESCRIPTION:Pasifika whānau day to register whānau to stop smoking challenge and increase immunisation rates.
URL:https://worldsmokefreemay.nz/event/battle-of-the-pasifika-churches-whanau-day/
LOCATION:Methodist Church\, 453 Gladstone Road\, Gisborne
CATEGORIES:Tairāwhiti
ATTACH;FMTTYPE=image/png:https://worldsmokefreemay.nz/wp-content/uploads/2025/04/Screenshot-2025-05-02-100007.png
END:VEVENT
BEGIN:VEVENT
DTSTART;TZID=Pacific/Auckland:20250509T190000
DTEND;TZID=Pacific/Auckland:20250509T200000
DTSTAMP:20260420T163822
CREATED:20250428T224506Z
LAST-MODIFIED:20250430T044951Z
UID:1894-1746817200-1746820800@worldsmokefreemay.nz
SUMMARY:Zumba - Massey
DESCRIPTION:Ready to move\, groove\, and breathe free? Join our free Community Zumba Sessions designed to boost your health\, lift your mood\, and support your journey to quit smoking. No pressure\, just positive vibes\, energetic music\, and a fun way to take control of your well-being. All fitness levels welcome!
URL:https://worldsmokefreemay.nz/event/massey-zumba/
LOCATION:Massey Hub\, 385 Don Buck Road\, Auckland
CATEGORIES:Auckland
END:VEVENT
BEGIN:VEVENT
DTSTART;TZID=Pacific/Auckland:20250509T113000
DTEND;TZID=Pacific/Auckland:20250509T123000
DTSTAMP:20260420T163822
CREATED:20250428T223507Z
LAST-MODIFIED:20250501T020236Z
UID:1878-1746790200-1746793800@worldsmokefreemay.nz
SUMMARY:Quit Cafe - Manurewa
DESCRIPTION:Your next coffees on us! Sign up to stop smoking with ‘Living Smokefree’ or join our online ‘That’s Us campaign’ and enjoy a free coffee as a boost on your smokefree journey. Because small steps deserve great rewards. Let’s kick the habit together\, one cup at a time.
URL:https://worldsmokefreemay.nz/event/zumba-coffee-activations-3/
LOCATION:Manurewa Library\, 7 Hill Road\, Manurewa
CATEGORIES:Auckland
END:VEVENT
BEGIN:VEVENT
DTSTART;TZID=Pacific/Auckland:20250508T190000
DTEND;TZID=Pacific/Auckland:20250508T200000
DTSTAMP:20260420T163822
CREATED:20250428T223131Z
LAST-MODIFIED:20250501T015032Z
UID:1876-1746730800-1746734400@worldsmokefreemay.nz
SUMMARY:Zumba - Papakura
DESCRIPTION:Ready to move\, groove\, and breathe free? Join our free Community Zumba Sessions designed to boost your health\, lift your mood\, and support your journey to quit smoking. No pressure\, just positive vibes\, energetic music\, and a fun way to take control of your well-being. All fitness levels welcome!
URL:https://worldsmokefreemay.nz/event/zumba-coffee-activations-2/
LOCATION:Otara Library\, Centre 46 Fair Mall\, Ōtara\, Manukau
CATEGORIES:Auckland
ATTACH;FMTTYPE=application/pdf:https://worldsmokefreemay.nz/wp-content/uploads/2025/04/KC-Zumba-Evenings-with-J-1-1.pdf
END:VEVENT
BEGIN:VEVENT
DTSTART;TZID=Pacific/Auckland:20250507T183000
DTEND;TZID=Pacific/Auckland:20250507T193000
DTSTAMP:20260420T163822
CREATED:20250430T003612Z
LAST-MODIFIED:20250430T221335Z
UID:2044-1746642600-1746646200@worldsmokefreemay.nz
SUMMARY:Xtreme Hip Hop Smokefree Classes
DESCRIPTION:In celebration of World Smokefree May\, we’re partnering with Hāpai Te Hauora and Love Wainuiomata to bring Xtreme Hip Hop Step classes to whānau here in the ‘Nui’ throughout the month of May!\nJoin us\, get moving\, and encourage your whānau to kickstart a smokefree lifestyle journey this May — let’s celebrate health\, movement\, and community together!
URL:https://worldsmokefreemay.nz/event/xtreme-hip-hop-smokefree-classes/
LOCATION:Wainuiomata Community Centre\, Queen Street\, Wainuiomata
CATEGORIES:Central Region
ATTACH;FMTTYPE=image/png:https://worldsmokefreemay.nz/wp-content/uploads/2025/04/Thats-us-Step-Class-Event-Poster.png
END:VEVENT
BEGIN:VEVENT
DTSTART;TZID=Pacific/Auckland:20250506T183000
DTEND;TZID=Pacific/Auckland:20250506T193000
DTSTAMP:20260420T163822
CREATED:20250428T223847Z
LAST-MODIFIED:20250430T052316Z
UID:1884-1746556200-1746559800@worldsmokefreemay.nz
SUMMARY:Hip Hop Dance class - ZEAL Henderson
DESCRIPTION:Drop the smokes and hit the beats! Our free Hip Hop Dance Classes are all about fresh moves\, good vibes\, and supporting your smokefree journey. Whether you’re a beginner or a seasoned dancer\, come groove with us and take a powerful step toward better health one beat at a time!
URL:https://worldsmokefreemay.nz/event/zeal-henderson-zumba-session-for-wahine-ma/
LOCATION:Zeal West\, 20 Alderman Drive\, Henderson\, Auckland\, 0650\, New Zealand
CATEGORIES:Auckland
END:VEVENT
END:VCALENDAR